Workbook

Sheet INSTRUCCIONES
A1: ANEXO 2
A2: INFORMACIÓN ECONÓMICA Y FINANCIERA
A3: A. INFORMACIÓN ECONÓMICA
A4: Cumplimentar balances (A1) indicando el Nº de trabajadores para los ejercicios que se piden y, cuentas de resultados simplificados (A2) correspondientes a los tres últimos ejercicios cerrados y a los tres ejercicios posteriores previsionales.
A5: A.1. Balances correspondientes a los tres últimos ejercicios y previsionales correspondientes a los tres ejercicios siguientes consecutivos.
A6: A.2. Cuentas de resultados de los últimos tres ejercicios y previsionales correspondientes a los tres ejercicios siguientes consecutivos.
A7: En caso de empresas solicitantes de la ayuda que tengan una participación igual o superior al 25 % del capital social o de los derechos de voto de otra empresa y/u otra(s) empresa(s) tenga(n) una participación igual o superior al 25 % en la suya, aportar balance económico y cuentas de explotación de los dos últimos ejercicios cerrados de la empresa o empresas partícipes.
A8: B. INFORMACIÓN FINANCIERA
A9: Cumplimentar información del plan de financiación (B1) del proyecto de inversión de acuerdo con los datos económicos anteriores. Se deberá presentar la documentación acreditativa de las fuentes de financiación propia y externa privada.
A10: B.1. Plan de financiación
A12: C. VIABILIDAD ECONÓMICO-FINANCIERA
A13: Cumplimentar indicadores económicos (C1) para justificar la viabilidad económico financiera de la inversión proyectada.
... A15: Además, se deberá cumplimentar la Declaración responsable del solicitante relativa a la viabilidad económico financiera de la operación de inversión

Sheet A1. BALANCES
A1: BALANCES DE SITUACIÓN | M1: ANÁLISIS VERTICAL | X1: ANÁLISIS HORIZONTAL (AÑO 0) | AI1: ANÁLISIS HORIZONTAL (AÑO N-1)
A2: (En Euros) | B2: =YEAR(TODAY())-3 -> 2022 | C2: =YEAR(TODAY())-2 -> 2023 | D2: =YEAR(TODAY())-1 -> 2024 | E2: =YEAR(TODAY()) -> 2025 | F2: =YEAR(TODAY())+1 -> 2026 | G2: =YEAR(TODAY())+2 -> 2027 | M2: =B2 -> 2022 | N2: =C2 -> 2023 | O2: =D2 -> 2024 | P2: =E2 -> 2025 | Q2: =F2 -> 2026 | R2: =G2 -> 2027 | S2: =H2 -> 0 | T2: =I2 -> 0 | ... V2: =K2 -> 0 | X2: =B2 -> 2022 | Y2: =C2 -> 2023 | Z2: =D2 -> 2024 | AA2: =E2 -> 2025 | AB2: =F2 -> 2026 | AC2: =G2 -> 2027 | AD2: =H2 -> 0 | AE2: =I2 -> 0 | ... AG2: =K2 -> 0 | AI2: =B2 -> 2022 | AJ2: =C2 -> 2023 | AK2: =D2 -> 2024 | AL2: =E2 -> 2025 | AM2: =F2 -> 2026 | AN2: =G2 -> 2027 | AO2: =H2 -> 0 | AP2: =I2 -> 0 | ... AR2: =K2 -> 0
A3: A. ACTIVO NO CORRIENTE | B3: =SUM(B4:B10) -> 0 | C3: =SUM(C4:C10) -> 0 | D3: =SUM(D4:D10) -> 0 | E3: =SUM(E4:E10) -> 0 | F3: =SUM(F4:F10) -> 0 | G3: =SUM(G4:G10) -> 0 | H3: =SUM(H4:H10) -> 0 | I3: =SUM(I4:I10) -> 0 | ... K3: =SUM(K4:K10) -> 0 | M3: =IFERROR(B3/B$19,"") | N3: =IFERROR(C3/C$19,"") | O3: =IFERROR(D3/D$19,"") | P3: =IFERROR(E3/E$19,"") | Q3: =IFERROR(F3/F$19,"") | R3: =IFERROR(G3/G$19,"") | S3: =IFERROR(H3/H$19,"") | T3: =IFERROR(I3/I$19,"") | ... V3: =IFERROR(K3/K$19,"") | X3: =IFERROR(IF(X$2=0,"",IF((AND($B3,B3)>0),(((B3-$B3)/($B3))),(((B3-$B3)/ABS($B3))))),"") | Y3: =IFERROR(IF(Y$2=0,"",IF((AND($B3,C3)>0),(((C3-$B3)/($B3))),(((C3-$B3)/ABS($B3))))),"") | Z3: =IFERROR(IF(Z$2=0,"",IF((AND($B3,D3)>0),(((D3-$B3)/($B3))),(((D3-$B3)/ABS($B3))))),"") | AA3: =IFERROR(IF(AA$2=0,"",IF((AND($B3,E3)>0),(((E3-$B3)/($B3))),(((E3-$B3)/ABS($B3))))),"") | AB3: =IFERROR(IF(AB$2=0,"",IF((AND($B3,F3)>0),(((F3-$B3)/($B3))),(((F3-$B3)/ABS($B3))))),"") | AC3: =IFERROR(IF(AC$2=0,"",IF((AND($B3,G3)>0),(((G3-$B3)/($B3))),(((G3-$B3)/ABS($B3))))),"") | AD3: =IFERROR(IF(AD$2=0,"",IF((AND($B3,H3)>0),(((H3-$B3)/($B3))),(((H3-$B3)/ABS($B3))))),"") | AE3: =IFERROR(IF(AE$2=0,"",IF((AND($B3,I3)>0),(((I3-$B3)/($B3))),(((I3-$B3)/ABS($B3))))),"") | ... AG3: =IFERROR(IF(AG$2=0,"",IF((AND($B3,K3)>0),(((K3-$B3)/($B3))),(((K3-$B3)/ABS($B3))))),"") | AI3: =IFERROR(IF(AI$2=0,"",((B3-B3)/ABS(B3))),"") | AJ3: =IFERROR(IF(AJ$2=0,"",((C3-B3)/ABS(B3))),"") | AK3: =IFERROR(IF(AK$2=0,"",((D3-C3)/ABS(C3))),"") | AL3: =IFERROR(IF(AL$2=0,"",((E3-D3)/ABS(D3))),"") | AM3: =IFERROR(IF(AM$2=0,"",((F3-E3)/ABS(E3))),"") | AN3: =IFERROR(IF(AN$2=0,"",((G3-F3)/ABS(F3))),"") | AO3: =IFERROR(IF(AO$2=0,"",((H3-G3)/ABS(G3))),"") | AP3: =IFERROR(IF(AP$2=0,"",((I3-H3)/ABS(H3))),"") | AQ3: =IFERROR(IF(AQ$2=0,"",((J3-I3)/ABS(I3))),"") | AR3: =IFERROR(IF(AR$2=0,"",((K3-J3)/ABS(J3))),"")
A4: I. Inmovilizado intangible | M4: =IFERROR(B4/B$19,"") | N4: =IFERROR(C4/C$19,"") | O4: =IFERROR(D4/D$19,"") | P4: =IFERROR(E4/E$19,"") | Q4: =IFERROR(F4/F$19,"") | R4: =IFERROR(G4/G$19,"") | S4: =IFERROR(H4/H$19,"") | T4: =IFERROR(I4/I$19,"") | ... V4: =IFERROR(K4/K$19,"") | X4: =IFERROR(IF(X$2=0,"",IF((AND($B4,B4)>0),(((B4-$B4)/($B4))),(((B4-$B4)/ABS($B4))))),"") | Y4: =IFERROR(IF(Y$2=0,"",IF((AND($B4,C4)>0),(((C4-$B4)/($B4))),(((C4-$B4)/ABS($B4))))),"") | Z4: =IFERROR(IF(Z$2=0,"",IF((AND($B4,D4)>0),(((D4-$B4)/($B4))),(((D4-$B4)/ABS($B4))))),"") | AA4: =IFERROR(IF(AA$2=0,"",IF((AND($B4,E4)>0),(((E4-$B4)/($B4))),(((E4-$B4)/ABS($B4))))),"") | AB4: =IFERROR(IF(AB$2=0,"",IF((AND($B4,F4)>0),(((F4-$B4)/($B4))),(((F4-$B4)/ABS($B4))))),"") | AC4: =IFERROR(IF(AC$2=0,"",IF((AND($B4,G4)>0),(((G4-$B4)/($B4))),(((G4-$B4)/ABS($B4))))),"") | AD4: =IFERROR(IF(AD$2=0,"",IF((AND($B4,H4)>0),(((H4-$B4)/($B4))),(((H4-$B4)/ABS($B4))))),"") | AE4: =IFERROR(IF(AE$2=0,"",IF((AND($B4,I4)>0),(((I4-$B4)/($B4))),(((I4-$B4)/ABS($B4))))),"") | ... AG4: =IFERROR(IF(AG$2=0,"",IF((AND($B4,K4)>0),(((K4-$B4)/($B4))),(((K4-$B4)/ABS($B4))))),"") | AI4: =IFERROR(IF(AI$2=0,"",((B4-B4)/ABS(B4))),"") | AJ4: =IFERROR(IF(AJ$2=0,"",((C4-B4)/ABS(B4))),"") | AK4: =IFERROR(IF(AK$2=0,"",((D4-C4)/ABS(C4))),"") | AL4: =IFERROR(IF(AL$2=0,"",((E4-D4)/ABS(D4))),"") | AM4: =IFERROR(IF(AM$2=0,"",((F4-E4)/ABS(E4))),"") | AN4: =IFERROR(IF(AN$2=0,"",((G4-F4)/ABS(F4))),"") | AO4: =IFERROR(IF(AO$2=0,"",((H4-G4)/ABS(G4))),"") | AP4: =IFERROR(IF(AP$2=0,"",((I4-H4)/ABS(H4))),"") | AQ4: =IFERROR(IF(AQ$2=0,"",((J4-I4)/ABS(I4))),"") | AR4: =IFERROR(IF(AR$2=0,"",((K4-J4)/ABS(J4))),"")
A5: II. Inmovilizado material | M5: =IFERROR(B5/B$19,"") | N5: =IFERROR(C5/C$19,"") | O5: =IFERROR(D5/D$19,"") | P5: =IFERROR(E5/E$19,"") | Q5: =IFERROR(F5/F$19,"") | R5: =IFERROR(G5/G$19,"") | S5: =IFERROR(H5/H$19,"") | T5: =IFERROR(I5/I$19,"") | ... V5: =IFERROR(K5/K$19,"") | X5: =IFERROR(IF(X$2=0,"",IF((AND($B5,B5)>0),(((B5-$B5)/($B5))),(((B5-$B5)/ABS($B5))))),"") | Y5: =IFERROR(IF(Y$2=0,"",IF((AND($B5,C5)>0),(((C5-$B5)/($B5))),(((C5-$B5)/ABS($B5))))),"") | Z5: =IFERROR(IF(Z$2=0,"",IF((AND($B5,D5)>0),(((D5-$B5)/($B5))),(((D5-$B5)/ABS($B5))))),"") | AA5: =IFERROR(IF(AA$2=0,"",IF((AND($B5,E5)>0),(((E5-$B5)/($B5))),(((E5-$B5)/ABS($B5))))),"") | AB5: =IFERROR(IF(AB$2=0,"",IF((AND($B5,F5)>0),(((F5-$B5)/($B5))),(((F5-$B5)/ABS($B5))))),"") | AC5: =IFERROR(IF(AC$2=0,"",IF((AND($B5,G5)>0),(((G5-$B5)/($B5))),(((G5-$B5)/ABS($B5))))),"") | AD5: =IFERROR(IF(AD$2=0,"",IF((AND($B5,H5)>0),(((H5-$B5)/($B5))),(((H5-$B5)/ABS($B5))))),"") | AE5: =IFERROR(IF(AE$2=0,"",IF((AND($B5,I5)>0),(((I5-$B5)/($B5))),(((I5-$B5)/ABS($B5))))),"") | ... AG5: =IFERROR(IF(AG$2=0,"",IF((AND($B5,K5)>0),(((K5-$B5)/($B5))),(((K5-$B5)/ABS($B5))))),"") | AI5: =IFERROR(IF(AI$2=0,"",((B5-B5)/ABS(B5))),"") | AJ5: =IFERROR(IF(AJ$2=0,"",((C5-B5)/ABS(B5))),"") | AK5: =IFERROR(IF(AK$2=0,"",((D5-C5)/ABS(C5))),"") | AL5: =IFERROR(IF(AL$2=0,"",((E5-D5)/ABS(D5))),"") | AM5: =IFERROR(IF(AM$2=0,"",((F5-E5)/ABS(E5))),"") | AN5: =IFERROR(IF(AN$2=0,"",((G5-F5)/ABS(F5))),"") | AO5: =IFERROR(IF(AO$2=0,"",((H5-G5)/ABS(G5))),"") | AP5: =IFERROR(IF(AP$2=0,"",((I5-H5)/ABS(H5))),"") | AQ5: =IFERROR(IF(AQ$2=0,"",((J5-I5)/ABS(I5))),"") | AR5: =IFERROR(IF(AR$2=0,"",((K5-J5)/ABS(J5))),"")
A6: III. Inversiones inmobilarias | M6: =IFERROR(B6/B$19,"") | N6: =IFERROR(C6/C$19,"") | O6: =IFERROR(D6/D$19,"") | P6: =IFERROR(E6/E$19,"") | Q6: =IFERROR(F6/F$19,"") | R6: =IFERROR(G6/G$19,"") | S6: =IFERROR(H6/H$19,"") | T6: =IFERROR(I6/I$19,"") | ... V6: =IFERROR(K6/K$19,"") | X6: =IFERROR(IF(X$2=0,"",IF((AND($B6,B6)>0),(((B6-$B6)/($B6))),(((B6-$B6)/ABS($B6))))),"") | Y6: =IFERROR(IF(Y$2=0,"",IF((AND($B6,C6)>0),(((C6-$B6)/($B6))),(((C6-$B6)/ABS($B6))))),"") | Z6: =IFERROR(IF(Z$2=0,"",IF((AND($B6,D6)>0),(((D6-$B6)/($B6))),(((D6-$B6)/ABS($B6))))),"") | AA6: =IFERROR(IF(AA$2=0,"",IF((AND($B6,E6)>0),(((E6-$B6)/($B6))),(((E6-$B6)/ABS($B6))))),"") | AB6: =IFERROR(IF(AB$2=0,"",IF((AND($B6,F6)>0),(((F6-$B6)/($B6))),(((F6-$B6)/ABS($B6))))),"") | AC6: =IFERROR(IF(AC$2=0,"",IF((AND($B6,G6)>0),(((G6-$B6)/($B6))),(((G6-$B6)/ABS($B6))))),"") | AD6: =IFERROR(IF(AD$2=0,"",IF((AND($B6,H6)>0),(((H6-$B6)/($B6))),(((H6-$B6)/ABS($B6))))),"") | AE6: =IFERROR(IF(AE$2=0,"",IF((AND($B6,I6)>0),(((I6-$B6)/($B6))),(((I6-$B6)/ABS($B6))))),"") | ... AG6: =IFERROR(IF(AG$2=0,"",IF((AND($B6,K6)>0),(((K6-$B6)/($B6))),(((K6-$B6)/ABS($B6))))),"") | AI6: =IFERROR(IF(AI$2=0,"",((B6-B6)/ABS(B6))),"") | AJ6: =IFERROR(IF(AJ$2=0,"",((C6-B6)/ABS(B6))),"") | AK6: =IFERROR(IF(AK$2=0,"",((D6-C6)/ABS(C6))),"") | AL6: =IFERROR(IF(AL$2=0,"",((E6-D6)/ABS(D6))),"") | AM6: =IFERROR(IF(AM$2=0,"",((F6-E6)/ABS(E6))),"") | AN6: =IFERROR(IF(AN$2=0,"",((G6-F6)/ABS(F6))),"") | AO6: =IFERROR(IF(AO$2=0,"",((H6-G6)/ABS(G6))),"") | AP6: =IFERROR(IF(AP$2=0,"",((I6-H6)/ABS(H6))),"") | AQ6: =IFERROR(IF(AQ$2=0,"",((J6-I6)/ABS(I6))),"") | AR6: =IFERROR(IF(AR$2=0,"",((K6-J6)/ABS(J6))),"")
A7: IV. Inversiones en empresas del grupo y asociadas a largo plazo | M7: =IFERROR(B7/B$19,"") | N7: =IFERROR(C7/C$19,"") | O7: =IFERROR(D7/D$19,"") | P7: =IFERROR(E7/E$19,"") | Q7: =IFERROR(F7/F$19,"") | R7: =IFERROR(G7/G$19,"") | S7: =IFERROR(H7/H$19,"") | T7: =IFERROR(I7/I$19,"") | ... V7: =IFERROR(K7/K$19,"") | X7: =IFERROR(IF(X$2=0,"",IF((AND($B7,B7)>0),(((B7-$B7)/($B7))),(((B7-$B7)/ABS($B7))))),"") | Y7: =IFERROR(IF(Y$2=0,"",IF((AND($B7,C7)>0),(((C7-$B7)/($B7))),(((C7-$B7)/ABS($B7))))),"") | Z7: =IFERROR(IF(Z$2=0,"",IF((AND($B7,D7)>0),(((D7-$B7)/($B7))),(((D7-$B7)/ABS($B7))))),"") | AA7: =IFERROR(IF(AA$2=0,"",IF((AND($B7,E7)>0),(((E7-$B7)/($B7))),(((E7-$B7)/ABS($B7))))),"") | AB7: =IFERROR(IF(AB$2=0,"",IF((AND($B7,F7)>0),(((F7-$B7)/($B7))),(((F7-$B7)/ABS($B7))))),"") | AC7: =IFERROR(IF(AC$2=0,"",IF((AND($B7,G7)>0),(((G7-$B7)/($B7))),(((G7-$B7)/ABS($B7))))),"") | AD7: =IFERROR(IF(AD$2=0,"",IF((AND($B7,H7)>0),(((H7-$B7)/($B7))),(((H7-$B7)/ABS($B7))))),"") | AE7: =IFERROR(IF(AE$2=0,"",IF((AND($B7,I7)>0),(((I7-$B7)/($B7))),(((I7-$B7)/ABS($B7))))),"") | ... AG7: =IFERROR(IF(AG$2=0,"",IF((AND($B7,K7)>0),(((K7-$B7)/($B7))),(((K7-$B7)/ABS($B7))))),"") | AI7: =IFERROR(IF(AI$2=0,"",((B7-B7)/ABS(B7))),"") | AJ7: =IFERROR(IF(AJ$2=0,"",((C7-B7)/ABS(B7))),"") | AK7: =IFERROR(IF(AK$2=0,"",((D7-C7)/ABS(C7))),"") | AL7: =IFERROR(IF(AL$2=0,"",((E7-D7)/ABS(D7))),"") | AM7: =IFERROR(IF(AM$2=0,"",((F7-E7)/ABS(E7))),"") | AN7: =IFERROR(IF(AN$2=0,"",((G7-F7)/ABS(F7))),"") | AO7: =IFERROR(IF(AO$2=0,"",((H7-G7)/ABS(G7))),"") | AP7: =IFERROR(IF(AP$2=0,"",((I7-H7)/ABS(H7))),"") | AQ7: =IFERROR(IF(AQ$2=0,"",((J7-I7)/ABS(I7))),"") | AR7: =IFERROR(IF(AR$2=0,"",((K7-J7)/ABS(J7))),"")
A8: V. Inversiones financieras a largo plazo | M8: =IFERROR(B8/B$19,"") | N8: =IFERROR(C8/C$19,"") | O8: =IFERROR(D8/D$19,"") | P8: =IFERROR(E8/E$19,"") | Q8: =IFERROR(F8/F$19,"") | R8: =IFERROR(G8/G$19,"") | S8: =IFERROR(H8/H$19,"") | T8: =IFERROR(I8/I$19,"") | ... V8: =IFERROR(K8/K$19,"") | X8: =IFERROR(IF(X$2=0,"",IF((AND($B8,B8)>0),(((B8-$B8)/($B8))),(((B8-$B8)/ABS($B8))))),"") | Y8: =IFERROR(IF(Y$2=0,"",IF((AND($B8,C8)>0),(((C8-$B8)/($B8))),(((C8-$B8)/ABS($B8))))),"") | Z8: =IFERROR(IF(Z$2=0,"",IF((AND($B8,D8)>0),(((D8-$B8)/($B8))),(((D8-$B8)/ABS($B8))))),"") | AA8: =IFERROR(IF(AA$2=0,"",IF((AND($B8,E8)>0),(((E8-$B8)/($B8))),(((E8-$B8)/ABS($B8))))),"") | AB8: =IFERROR(IF(AB$2=0,"",IF((AND($B8,F8)>0),(((F8-$B8)/($B8))),(((F8-$B8)/ABS($B8))))),"") | AC8: =IFERROR(IF(AC$2=0,"",IF((AND($B8,G8)>0),(((G8-$B8)/($B8))),(((G8-$B8)/ABS($B8))))),"") | AD8: =IFERROR(IF(AD$2=0,"",IF((AND($B8,H8)>0),(((H8-$B8)/($B8))),(((H8-$B8)/ABS($B8))))),"") | AE8: =IFERROR(IF(AE$2=0,"",IF((AND($B8,I8)>0),(((I8-$B8)/($B8))),(((I8-$B8)/ABS($B8))))),"") | ... AG8: =IFERROR(IF(AG$2=0,"",IF((AND($B8,K8)>0),(((K8-$B8)/($B8))),(((K8-$B8)/ABS($B8))))),"") | AI8: =IFERROR(IF(AI$2=0,"",((B8-B8)/ABS(B8))),"") | AJ8: =IFERROR(IF(AJ$2=0,"",((C8-B8)/ABS(B8))),"") | AK8: =IFERROR(IF(AK$2=0,"",((D8-C8)/ABS(C8))),"") | AL8: =IFERROR(IF(AL$2=0,"",((E8-D8)/ABS(D8))),"") | AM8: =IFERROR(IF(AM$2=0,"",((F8-E8)/ABS(E8))),"") | AN8: =IFERROR(IF(AN$2=0,"",((G8-F8)/ABS(F8))),"") | AO8: =IFERROR(IF(AO$2=0,"",((H8-G8)/ABS(G8))),"") | AP8: =IFERROR(IF(AP$2=0,"",((I8-H8)/ABS(H8))),"") | AQ8: =IFERROR(IF(AQ$2=0,"",((J8-I8)/ABS(I8))),"") | AR8: =IFERROR(IF(AR$2=0,"",((K8-J8)/ABS(J8))),"")
A9: VI. Activos por impuesto diferido | M9: =IFERROR(B9/B$19,"") | N9: =IFERROR(C9/C$19,"") | O9: =IFERROR(D9/D$19,"") | P9: =IFERROR(E9/E$19,"") | Q9: =IFERROR(F9/F$19,"") | R9: =IFERROR(G9/G$19,"") | S9: =IFERROR(H9/H$19,"") | T9: =IFERROR(I9/I$19,"") | ... V9: =IFERROR(K9/K$19,"") | X9: =IFERROR(IF(X$2=0,"",IF((AND($B9,B9)>0),(((B9-$B9)/($B9))),(((B9-$B9)/ABS($B9))))),"") | Y9: =IFERROR(IF(Y$2=0,"",IF((AND($B9,C9)>0),(((C9-$B9)/($B9))),(((C9-$B9)/ABS($B9))))),"") | Z9: =IFERROR(IF(Z$2=0,"",IF((AND($B9,D9)>0),(((D9-$B9)/($B9))),(((D9-$B9)/ABS($B9))))),"") | AA9: =IFERROR(IF(AA$2=0,"",IF((AND($B9,E9)>0),(((E9-$B9)/($B9))),(((E9-$B9)/ABS($B9))))),"") | AB9: =IFERROR(IF(AB$2=0,"",IF((AND($B9,F9)>0),(((F9-$B9)/($B9))),(((F9-$B9)/ABS($B9))))),"") | AC9: =IFERROR(IF(AC$2=0,"",IF((AND($B9,G9)>0),(((G9-$B9)/($B9))),(((G9-$B9)/ABS($B9))))),"") | AD9: =IFERROR(IF(AD$2=0,"",IF((AND($B9,H9)>0),(((H9-$B9)/($B9))),(((H9-$B9)/ABS($B9))))),"") | AE9: =IFERROR(IF(AE$2=0,"",IF((AND($B9,I9)>0),(((I9-$B9)/($B9))),(((I9-$B9)/ABS($B9))))),"") | ... AG9: =IFERROR(IF(AG$2=0,"",IF((AND($B9,K9)>0),(((K9-$B9)/($B9))),(((K9-$B9)/ABS($B9))))),"") | AI9: =IFERROR(IF(AI$2=0,"",((B9-B9)/ABS(B9))),"") | AJ9: =IFERROR(IF(AJ$2=0,"",((C9-B9)/ABS(B9))),"") | AK9: =IFERROR(IF(AK$2=0,"",((D9-C9)/ABS(C9))),"") | AL9: =IFERROR(IF(AL$2=0,"",((E9-D9)/ABS(D9))),"") | AM9: =IFERROR(IF(AM$2=0,"",((F9-E9)/ABS(E9))),"") | AN9: =IFERROR(IF(AN$2=0,"",((G9-F9)/ABS(F9))),"") | AO9: =IFERROR(IF(AO$2=0,"",((H9-G9)/ABS(G9))),"") | AP9: =IFERROR(IF(AP$2=0,"",((I9-H9)/ABS(H9))),"") | AQ9: =IFERROR(IF(AQ$2=0,"",((J9-I9)/ABS(I9))),"") | AR9: =IFERROR(IF(AR$2=0,"",((K9-J9)/ABS(J9))),"")
A10: VII. Deudores comerciales no corrientes | M10: =IFERROR(B10/B$19,"") | N10: =IFERROR(C10/C$19,"") | O10: =IFERROR(D10/D$19,"") | P10: =IFERROR(E10/E$19,"") | Q10: =IFERROR(F10/F$19,"") | R10: =IFERROR(G10/G$19,"") | S10: =IFERROR(H10/H$19,"") | T10: =IFERROR(I10/I$19,"") | ... V10: =IFERROR(K10/K$19,"") | X10: =IFERROR(IF(X$2=0,"",IF((AND($B10,B10)>0),(((B10-$B10)/($B10))),(((B10-$B10)/ABS($B10))))),"") | Y10: =IFERROR(IF(Y$2=0,"",IF((AND($B10,C10)>0),(((C10-$B10)/($B10))),(((C10-$B10)/ABS($B10))))),"") | Z10: =IFERROR(IF(Z$2=0,"",IF((AND($B10,D10)>0),(((D10-$B10)/($B10))),(((D10-$B10)/ABS($B10))))),"") | AA10: =IFERROR(IF(AA$2=0,"",IF((AND($B10,E10)>0),(((E10-$B10)/($B10))),(((E10-$B10)/ABS($B10))))),"") | AB10: =IFERROR(IF(AB$2=0,"",IF((AND($B10,F10)>0),(((F10-$B10)/($B10))),(((F10-$B10)/ABS($B10))))),"") | AC10: =IFERROR(IF(AC$2=0,"",IF((AND($B10,G10)>0),(((G10-$B10)/($B10))),(((G10-$B10)/ABS($B10))))),"") | AD10: =IFERROR(IF(AD$2=0,"",IF((AND($B10,H10)>0),(((H10-$B10)/($B10))),(((H10-$B10)/ABS($B10))))),"") | AE10: =IFERROR(IF(AE$2=0,"",IF((AND($B10,I10)>0),(((I10-$B10)/($B10))),(((I10-$B10)/ABS($B10))))),"") | ... AG10: =IFERROR(IF(AG$2=0,"",IF((AND($B10,K10)>0),(((K10-$B10)/($B10))),(((K10-$B10)/ABS($B10))))),"") | AI10: =IFERROR(IF(AI$2=0,"",((B10-B10)/ABS(B10))),"") | AJ10: =IFERROR(IF(AJ$2=0,"",((C10-B10)/ABS(B10))),"") | AK10: =IFERROR(IF(AK$2=0,"",((D10-C10)/ABS(C10))),"") | AL10: =IFERROR(IF(AL$2=0,"",((E10-D10)/ABS(D10))),"") | AM10: =IFERROR(IF(AM$2=0,"",((F10-E10)/ABS(E10))),"") | AN10: =IFERROR(IF(AN$2=0,"",((G10-F10)/ABS(F10))),"") | AO10: =IFERROR(IF(AO$2=0,"",((H10-G10)/ABS(G10))),"") | AP10: =IFERROR(IF(AP$2=0,"",((I10-H10)/ABS(H10))),"") | AQ10: =IFERROR(IF(AQ$2=0,"",((J10-I10)/ABS(I10))),"") | AR10: =IFERROR(IF(AR$2=0,"",((K10-J10)/ABS(J10))),"")
A11: B. ACTIVO CORRIENTE | B11: =SUM(B12:B18) -> 0 | C11: =SUM(C12:C18) -> 0 | D11: =SUM(D12:D18) -> 0 | E11: =SUM(E12:E18) -> 0 | F11: =SUM(F12:F18) -> 0 | G11: =SUM(G12:G18) -> 0 | H11: =SUM(H12:H18) -> 0 | I11: =SUM(I12:I18) -> 0 | ... K11: =SUM(K12:K18) -> 0 | M11: =IFERROR(B11/B$19,"") | N11: =IFERROR(C11/C$19,"") | O11: =IFERROR(D11/D$19,"") | P11: =IFERROR(E11/E$19,"") | Q11: =IFERROR(F11/F$19,"") | R11: =IFERROR(G11/G$19,"") | S11: =IFERROR(H11/H$19,"") | T11: =IFERROR(I11/I$19,"") | ... V11: =IFERROR(K11/K$19,"") | X11: =IFERROR(IF(X$2=0,"",IF((AND($B11,B11)>0),(((B11-$B11)/($B11))),(((B11-$B11)/ABS($B11))))),"") | Y11: =IFERROR(IF(Y$2=0,"",IF((AND($B11,C11)>0),(((C11-$B11)/($B11))),(((C11-$B11)/ABS($B11))))),"") | Z11: =IFERROR(IF(Z$2=0,"",IF((AND($B11,D11)>0),(((D11-$B11)/($B11))),(((D11-$B11)/ABS($B11))))),"") | AA11: =IFERROR(IF(AA$2=0,"",IF((AND($B11,E11)>0),(((E11-$B11)/($B11))),(((E11-$B11)/ABS($B11))))),"") | AB11: =IFERROR(IF(AB$2=0,"",IF((AND($B11,F11)>0),(((F11-$B11)/($B11))),(((F11-$B11)/ABS($B11))))),"") | AC11: =IFERROR(IF(AC$2=0,"",IF((AND($B11,G11)>0),(((G11-$B11)/($B11))),(((G11-$B11)/ABS($B11))))),"") | AD11: =IFERROR(IF(AD$2=0,"",IF((AND($B11,H11)>0),(((H11-$B11)/($B11))),(((H11-$B11)/ABS($B11))))),"") | AE11: =IFERROR(IF(AE$2=0,"",IF((AND($B11,I11)>0),(((I11-$B11)/($B11))),(((I11-$B11)/ABS($B11))))),"") | ... AG11: =IFERROR(IF(AG$2=0,"",IF((AND($B11,K11)>0),(((K11-$B11)/($B11))),(((K11-$B11)/ABS($B11))))),"") | AI11: =IFERROR(IF(AI$2=0,"",((B11-B11)/ABS(B11))),"") | AJ11: =IFERROR(IF(AJ$2=0,"",((C11-B11)/ABS(B11))),"") | AK11: =IFERROR(IF(AK$2=0,"",((D11-C11)/ABS(C11))),"") | AL11: =IFERROR(IF(AL$2=0,"",((E11-D11)/ABS(D11))),"") | AM11: =IFERROR(IF(AM$2=0,"",((F11-E11)/ABS(E11))),"") | AN11: =IFERROR(IF(AN$2=0,"",((G11-F11)/ABS(F11))),"") | AO11: =IFERROR(IF(AO$2=0,"",((H11-G11)/ABS(G11))),"") | AP11: =IFERROR(IF(AP$2=0,"",((I11-H11)/ABS(H11))),"") | AQ11: =IFERROR(IF(AQ$2=0,"",((J11-I11)/ABS(I11))),"") | AR11: =IFERROR(IF(AR$2=0,"",((K11-J11)/ABS(J11))),"")
A12: I. Activos no corrientes mantenidos en la venta | M12: =IFERROR(B12/B$19,"") | N12: =IFERROR(C12/C$19,"") | O12: =IFERROR(D12/D$19,"") | P12: =IFERROR(E12/E$19,"") | Q12: =IFERROR(F12/F$19,"") | R12: =IFERROR(G12/G$19,"") | S12: =IFERROR(H12/H$19,"") | T12: =IFERROR(I12/I$19,"") | ... V12: =IFERROR(K12/K$19,"") | X12: =IFERROR(IF(X$2=0,"",IF((AND($B12,B12)>0),(((B12-$B12)/($B12))),(((B12-$B12)/ABS($B12))))),"") | Y12: =IFERROR(IF(Y$2=0,"",IF((AND($B12,C12)>0),(((C12-$B12)/($B12))),(((C12-$B12)/ABS($B12))))),"") | Z12: =IFERROR(IF(Z$2=0,"",IF((AND($B12,D12)>0),(((D12-$B12)/($B12))),(((D12-$B12)/ABS($B12))))),"") | AA12: =IFERROR(IF(AA$2=0,"",IF((AND($B12,E12)>0),(((E12-$B12)/($B12))),(((E12-$B12)/ABS($B12))))),"") | AB12: =IFERROR(IF(AB$2=0,"",IF((AND($B12,F12)>0),(((F12-$B12)/($B12))),(((F12-$B12)/ABS($B12))))),"") | AC12: =IFERROR(IF(AC$2=0,"",IF((AND($B12,G12)>0),(((G12-$B12)/($B12))),(((G12-$B12)/ABS($B12))))),"") | AD12: =IFERROR(IF(AD$2=0,"",IF((AND($B12,H12)>0),(((H12-$B12)/($B12))),(((H12-$B12)/ABS($B12))))),"") | AE12: =IFERROR(IF(AE$2=0,"",IF((AND($B12,I12)>0),(((I12-$B12)/($B12))),(((I12-$B12)/ABS($B12))))),"") | ... AG12: =IFERROR(IF(AG$2=0,"",IF((AND($B12,K12)>0),(((K12-$B12)/($B12))),(((K12-$B12)/ABS($B12))))),"") | AI12: =IFERROR(IF(AI$2=0,"",((B12-B12)/ABS(B12))),"") | AJ12: =IFERROR(IF(AJ$2=0,"",((C12-B12)/ABS(B12))),"") | AK12: =IFERROR(IF(AK$2=0,"",((D12-C12)/ABS(C12))),"") | AL12: =IFERROR(IF(AL$2=0,"",((E12-D12)/ABS(D12))),"") | AM12: =IFERROR(IF(AM$2=0,"",((F12-E12)/ABS(E12))),"") | AN12: =IFERROR(IF(AN$2=0,"",((G12-F12)/ABS(F12))),"") | AO12: =IFERROR(IF(AO$2=0,"",((H12-G12)/ABS(G12))),"") | AP12: =IFERROR(IF(AP$2=0,"",((I12-H12)/ABS(H12))),"") | AQ12: =IFERROR(IF(AQ$2=0,"",((J12-I12)/ABS(I12))),"") | AR12: =IFERROR(IF(AR$2=0,"",((K12-J12)/ABS(J12))),"")
A13: II. Existencias | M13: =IFERROR(B13/B$19,"") | N13: =IFERROR(C13/C$19,"") | O13: =IFERROR(D13/D$19,"") | P13: =IFERROR(E13/E$19,"") | Q13: =IFERROR(F13/F$19,"") | R13: =IFERROR(G13/G$19,"") | S13: =IFERROR(H13/H$19,"") | T13: =IFERROR(I13/I$19,"") | ... V13: =IFERROR(K13/K$19,"") | X13: =IFERROR(IF(X$2=0,"",IF((AND($B13,B13)>0),(((B13-$B13)/($B13))),(((B13-$B13)/ABS($B13))))),"") | Y13: =IFERROR(IF(Y$2=0,"",IF((AND($B13,C13)>0),(((C13-$B13)/($B13))),(((C13-$B13)/ABS($B13))))),"") | Z13: =IFERROR(IF(Z$2=0,"",IF((AND($B13,D13)>0),(((D13-$B13)/($B13))),(((D13-$B13)/ABS($B13))))),"") | AA13: =IFERROR(IF(AA$2=0,"",IF((AND($B13,E13)>0),(((E13-$B13)/($B13))),(((E13-$B13)/ABS($B13))))),"") | AB13: =IFERROR(IF(AB$2=0,"",IF((AND($B13,F13)>0),(((F13-$B13)/($B13))),(((F13-$B13)/ABS($B13))))),"") | AC13: =IFERROR(IF(AC$2=0,"",IF((AND($B13,G13)>0),(((G13-$B13)/($B13))),(((G13-$B13)/ABS($B13))))),"") | AD13: =IFERROR(IF(AD$2=0,"",IF((AND($B13,H13)>0),(((H13-$B13)/($B13))),(((H13-$B13)/ABS($B13))))),"") | AE13: =IFERROR(IF(AE$2=0,"",IF((AND($B13,I13)>0),(((I13-$B13)/($B13))),(((I13-$B13)/ABS($B13))))),"") | ... AG13: =IFERROR(IF(AG$2=0,"",IF((AND($B13,K13)>0),(((K13-$B13)/($B13))),(((K13-$B13)/ABS($B13))))),"") | AI13: =IFERROR(IF(AI$2=0,"",((B13-B13)/ABS(B13))),"") | AJ13: =IFERROR(IF(AJ$2=0,"",((C13-B13)/ABS(B13))),"") | AK13: =IFERROR(IF(AK$2=0,"",((D13-C13)/ABS(C13))),"") | AL13: =IFERROR(IF(AL$2=0,"",((E13-D13)/ABS(D13))),"") | AM13: =IFERROR(IF(AM$2=0,"",((F13-E13)/ABS(E13))),"") | AN13: =IFERROR(IF(AN$2=0,"",((G13-F13)/ABS(F13))),"") | AO13: =IFERROR(IF(AO$2=0,"",((H13-G13)/ABS(G13))),"") | AP13: =IFERROR(IF(AP$2=0,"",((I13-H13)/ABS(H13))),"") | AQ13: =IFERROR(IF(AQ$2=0,"",((J13-I13)/ABS(I13))),"") | AR13: =IFERROR(IF(AR$2=0,"",((K13-J13)/ABS(J13))),"")
A14: III. Deudores comerciales y otras cuentas a cobrar | M14: =IFERROR(B14/B$19,"") | N14: =IFERROR(C14/C$19,"") | O14: =IFERROR(D14/D$19,"") | P14: =IFERROR(E14/E$19,"") | Q14: =IFERROR(F14/F$19,"") | R14: =IFERROR(G14/G$19,"") | S14: =IFERROR(H14/H$19,"") | T14: =IFERROR(I14/I$19,"") | ... V14: =IFERROR(K14/K$19,"") | X14: =IFERROR(IF(X$2=0,"",IF((AND($B14,B14)>0),(((B14-$B14)/($B14))),(((B14-$B14)/ABS($B14))))),"") | Y14: =IFERROR(IF(Y$2=0,"",IF((AND($B14,C14)>0),(((C14-$B14)/($B14))),(((C14-$B14)/ABS($B14))))),"") | Z14: =IFERROR(IF(Z$2=0,"",IF((AND($B14,D14)>0),(((D14-$B14)/($B14))),(((D14-$B14)/ABS($B14))))),"") | AA14: =IFERROR(IF(AA$2=0,"",IF((AND($B14,E14)>0),(((E14-$B14)/($B14))),(((E14-$B14)/ABS($B14))))),"") | AB14: =IFERROR(IF(AB$2=0,"",IF((AND($B14,F14)>0),(((F14-$B14)/($B14))),(((F14-$B14)/ABS($B14))))),"") | AC14: =IFERROR(IF(AC$2=0,"",IF((AND($B14,G14)>0),(((G14-$B14)/($B14))),(((G14-$B14)/ABS($B14))))),"") | AD14: =IFERROR(IF(AD$2=0,"",IF((AND($B14,H14)>0),(((H14-$B14)/($B14))),(((H14-$B14)/ABS($B14))))),"") | AE14: =IFERROR(IF(AE$2=0,"",IF((AND($B14,I14)>0),(((I14-$B14)/($B14))),(((I14-$B14)/ABS($B14))))),"") | ... AG14: =IFERROR(IF(AG$2=0,"",IF((AND($B14,K14)>0),(((K14-$B14)/($B14))),(((K14-$B14)/ABS($B14))))),"") | AI14: =IFERROR(IF(AI$2=0,"",((B14-B14)/ABS(B14))),"") | AJ14: =IFERROR(IF(AJ$2=0,"",((C14-B14)/ABS(B14))),"") | AK14: =IFERROR(IF(AK$2=0,"",((D14-C14)/ABS(C14))),"") | AL14: =IFERROR(IF(AL$2=0,"",((E14-D14)/ABS(D14))),"") | AM14: =IFERROR(IF(AM$2=0,"",((F14-E14)/ABS(E14))),"") | AN14: =IFERROR(IF(AN$2=0,"",((G14-F14)/ABS(F14))),"") | AO14: =IFERROR(IF(AO$2=0,"",((H14-G14)/ABS(G14))),"") | AP14: =IFERROR(IF(AP$2=0,"",((I14-H14)/ABS(H14))),"") | AQ14: =IFERROR(IF(AQ$2=0,"",((J14-I14)/ABS(I14))),"") | AR14: =IFERROR(IF(AR$2=0,"",((K14-J14)/ABS(J14))),"")
A15: IV. Inversiones en empresas del grupo y asociadas a corto plazo | M15: =IFERROR(B15/B$19,"") | N15: =IFERROR(C15/C$19,"") | O15: =IFERROR(D15/D$19,"") | P15: =IFERROR(E15/E$19,"") | Q15: =IFERROR(F15/F$19,"") | R15: =IFERROR(G15/G$19,"") | S15: =IFERROR(H15/H$19,"") | T15: =IFERROR(I15/I$19,"") | ... V15: =IFERROR(K15/K$19,"") | X15: =IFERROR(IF(X$2=0,"",IF((AND($B15,B15)>0),(((B15-$B15)/($B15))),(((B15-$B15)/ABS($B15))))),"") | Y15: =IFERROR(IF(Y$2=0,"",IF((AND($B15,C15)>0),(((C15-$B15)/($B15))),(((C15-$B15)/ABS($B15))))),"") | Z15: =IFERROR(IF(Z$2=0,"",IF((AND($B15,D15)>0),(((D15-$B15)/($B15))),(((D15-$B15)/ABS($B15))))),"") | AA15: =IFERROR(IF(AA$2=0,"",IF((AND($B15,E15)>0),(((E15-$B15)/($B15))),(((E15-$B15)/ABS($B15))))),"") | AB15: =IFERROR(IF(AB$2=0,"",IF((AND($B15,F15)>0),(((F15-$B15)/($B15))),(((F15-$B15)/ABS($B15))))),"") | AC15: =IFERROR(IF(AC$2=0,"",IF((AND($B15,G15)>0),(((G15-$B15)/($B15))),(((G15-$B15)/ABS($B15))))),"") | AD15: =IFERROR(IF(AD$2=0,"",IF((AND($B15,H15)>0),(((H15-$B15)/($B15))),(((H15-$B15)/ABS($B15))))),"") | AE15: =IFERROR(IF(AE$2=0,"",IF((AND($B15,I15)>0),(((I15-$B15)/($B15))),(((I15-$B15)/ABS($B15))))),"") | ... AG15: =IFERROR(IF(AG$2=0,"",IF((AND($B15,K15)>0),(((K15-$B15)/($B15))),(((K15-$B15)/ABS($B15))))),"") | AI15: =IFERROR(IF(AI$2=0,"",((B15-B15)/ABS(B15))),"") | AJ15: =IFERROR(IF(AJ$2=0,"",((C15-B15)/ABS(B15))),"") | AK15: =IFERROR(IF(AK$2=0,"",((D15-C15)/ABS(C15))),"") | AL15: =IFERROR(IF(AL$2=0,"",((E15-D15)/ABS(D15))),"") | AM15: =IFERROR(IF(AM$2=0,"",((F15-E15)/ABS(E15))),"") | AN15: =IFERROR(IF(AN$2=0,"",((G15-F15)/ABS(F15))),"") | AO15: =IFERROR(IF(AO$2=0,"",((H15-G15)/ABS(G15))),"") | AP15: =IFERROR(IF(AP$2=0,"",((I15-H15)/ABS(H15))),"") | AQ15: =IFERROR(IF(AQ$2=0,"",((J15-I15)/ABS(I15))),"") | AR15: =IFERROR(IF(AR$2=0,"",((K15-J15)/ABS(J15))),"")
A16: V. Inversiones financieras a corto plazo | M16: =IFERROR(B16/B$19,"") | N16: =IFERROR(C16/C$19,"") | O16: =IFERROR(D16/D$19,"") | P16: =IFERROR(E16/E$19,"") | Q16: =IFERROR(F16/F$19,"") | R16: =IFERROR(G16/G$19,"") | S16: =IFERROR(H16/H$19,"") | T16: =IFERROR(I16/I$19,"") | ... V16: =IFERROR(K16/K$19,"") | X16: =IFERROR(IF(X$2=0,"",IF((AND($B16,B16)>0),(((B16-$B16)/($B16))),(((B16-$B16)/ABS($B16))))),"") | Y16: =IFERROR(IF(Y$2=0,"",IF((AND($B16,C16)>0),(((C16-$B16)/($B16))),(((C16-$B16)/ABS($B16))))),"") | Z16: =IFERROR(IF(Z$2=0,"",IF((AND($B16,D16)>0),(((D16-$B16)/($B16))),(((D16-$B16)/ABS($B16))))),"") | AA16: =IFERROR(IF(AA$2=0,"",IF((AND($B16,E16)>0),(((E16-$B16)/($B16))),(((E16-$B16)/ABS($B16))))),"") | AB16: =IFERROR(IF(AB$2=0,"",IF((AND($B16,F16)>0),(((F16-$B16)/($B16))),(((F16-$B16)/ABS($B16))))),"") | AC16: =IFERROR(IF(AC$2=0,"",IF((AND($B16,G16)>0),(((G16-$B16)/($B16))),(((G16-$B16)/ABS($B16))))),"") | AD16: =IFERROR(IF(AD$2=0,"",IF((AND($B16,H16)>0),(((H16-$B16)/($B16))),(((H16-$B16)/ABS($B16))))),"") | AE16: =IFERROR(IF(AE$2=0,"",IF((AND($B16,I16)>0),(((I16-$B16)/($B16))),(((I16-$B16)/ABS($B16))))),"") | ... AG16: =IFERROR(IF(AG$2=0,"",IF((AND($B16,K16)>0),(((K16-$B16)/($B16))),(((K16-$B16)/ABS($B16))))),"") | AI16: =IFERROR(IF(AI$2=0,"",((B16-B16)/ABS(B16))),"") | AJ16: =IFERROR(IF(AJ$2=0,"",((C16-B16)/ABS(B16))),"") | AK16: =IFERROR(IF(AK$2=0,"",((D16-C16)/ABS(C16))),"") | AL16: =IFERROR(IF(AL$2=0,"",((E16-D16)/ABS(D16))),"") | AM16: =IFERROR(IF(AM$2=0,"",((F16-E16)/ABS(E16))),"") | AN16: =IFERROR(IF(AN$2=0,"",((G16-F16)/ABS(F16))),"") | AO16: =IFERROR(IF(AO$2=0,"",((H16-G16)/ABS(G16))),"") | AP16: =IFERROR(IF(AP$2=0,"",((I16-H16)/ABS(H16))),"") | AQ16: =IFERROR(IF(AQ$2=0,"",((J16-I16)/ABS(I16))),"") | AR16: =IFERROR(IF(AR$2=0,"",((K16-J16)/ABS(J16))),"")
A17: VI. Periodificaciones a corto plazo | M17: =IFERROR(B17/B$19,"") | N17: =IFERROR(C17/C$19,"") | O17: =IFERROR(D17/D$19,"") | P17: =IFERROR(E17/E$19,"") | Q17: =IFERROR(F17/F$19,"") | R17: =IFERROR(G17/G$19,"") | S17: =IFERROR(H17/H$19,"") | T17: =IFERROR(I17/I$19,"") | ... V17: =IFERROR(K17/K$19,"") | X17: =IFERROR(IF(X$2=0,"",IF((AND($B17,B17)>0),(((B17-$B17)/($B17))),(((B17-$B17)/ABS($B17))))),"") | Y17: =IFERROR(IF(Y$2=0,"",IF((AND($B17,C17)>0),(((C17-$B17)/($B17))),(((C17-$B17)/ABS($B17))))),"") | Z17: =IFERROR(IF(Z$2=0,"",IF((AND($B17,D17)>0),(((D17-$B17)/($B17))),(((D17-$B17)/ABS($B17))))),"") | AA17: =IFERROR(IF(AA$2=0,"",IF((AND($B17,E17)>0),(((E17-$B17)/($B17))),(((E17-$B17)/ABS($B17))))),"") | AB17: =IFERROR(IF(AB$2=0,"",IF((AND($B17,F17)>0),(((F17-$B17)/($B17))),(((F17-$B17)/ABS($B17))))),"") | AC17: =IFERROR(IF(AC$2=0,"",IF((AND($B17,G17)>0),(((G17-$B17)/($B17))),(((G17-$B17)/ABS($B17))))),"") | AD17: =IFERROR(IF(AD$2=0,"",IF((AND($B17,H17)>0),(((H17-$B17)/($B17))),(((H17-$B17)/ABS($B17))))),"") | AE17: =IFERROR(IF(AE$2=0,"",IF((AND($B17,I17)>0),(((I17-$B17)/($B17))),(((I17-$B17)/ABS($B17))))),"") | ... AG17: =IFERROR(IF(AG$2=0,"",IF((AND($B17,K17)>0),(((K17-$B17)/($B17))),(((K17-$B17)/ABS($B17))))),"") | AI17: =IFERROR(IF(AI$2=0,"",((B17-B17)/ABS(B17))),"") | AJ17: =IFERROR(IF(AJ$2=0,"",((C17-B17)/ABS(B17))),"") | AK17: =IFERROR(IF(AK$2=0,"",((D17-C17)/ABS(C17))),"") | AL17: =IFERROR(IF(AL$2=0,"",((E17-D17)/ABS(D17))),"") | AM17: =IFERROR(IF(AM$2=0,"",((F17-E17)/ABS(E17))),"") | AN17: =IFERROR(IF(AN$2=0,"",((G17-F17)/ABS(F17))),"") | AO17: =IFERROR(IF(AO$2=0,"",((H17-G17)/ABS(G17))),"") | AP17: =IFERROR(IF(AP$2=0,"",((I17-H17)/ABS(H17))),"") | AQ17: =IFERROR(IF(AQ$2=0,"",((J17-I17)/ABS(I17))),"") | AR17: =IFERROR(IF(AR$2=0,"",((K17-J17)/ABS(J17))),"")
A18: VII. Efectivo y otros activos líquidos equivalentes | M18: =IFERROR(B18/B$19,"") | N18: =IFERROR(C18/C$19,"") | O18: =IFERROR(D18/D$19,"") | P18: =IFERROR(E18/E$19,"") | Q18: =IFERROR(F18/F$19,"") | R18: =IFERROR(G18/G$19,"") | S18: =IFERROR(H18/H$19,"") | T18: =IFERROR(I18/I$19,"") | ... V18: =IFERROR(K18/K$19,"") | X18: =IFERROR(IF(X$2=0,"",IF((AND($B18,B18)>0),(((B18-$B18)/($B18))),(((B18-$B18)/ABS($B18))))),"") | Y18: =IFERROR(IF(Y$2=0,"",IF((AND($B18,C18)>0),(((C18-$B18)/($B18))),(((C18-$B18)/ABS($B18))))),"") | Z18: =IFERROR(IF(Z$2=0,"",IF((AND($B18,D18)>0),(((D18-$B18)/($B18))),(((D18-$B18)/ABS($B18))))),"") | AA18: =IFERROR(IF(AA$2=0,"",IF((AND($B18,E18)>0),(((E18-$B18)/($B18))),(((E18-$B18)/ABS($B18))))),"") | AB18: =IFERROR(IF(AB$2=0,"",IF((AND($B18,F18)>0),(((F18-$B18)/($B18))),(((F18-$B18)/ABS($B18))))),"") | AC18: =IFERROR(IF(AC$2=0,"",IF((AND($B18,G18)>0),(((G18-$B18)/($B18))),(((G18-$B18)/ABS($B18))))),"") | AD18: =IFERROR(IF(AD$2=0,"",IF((AND($B18,H18)>0),(((H18-$B18)/($B18))),(((H18-$B18)/ABS($B18))))),"") | AE18: =IFERROR(IF(AE$2=0,"",IF((AND($B18,I18)>0),(((I18-$B18)/($B18))),(((I18-$B18)/ABS($B18))))),"") | ... AG18: =IFERROR(IF(AG$2=0,"",IF((AND($B18,K18)>0),(((K18-$B18)/($B18))),(((K18-$B18)/ABS($B18))))),"") | AI18: =IFERROR(IF(AI$2=0,"",((B18-B18)/ABS(B18))),"") | AJ18: =IFERROR(IF(AJ$2=0,"",((C18-B18)/ABS(B18))),"") | AK18: =IFERROR(IF(AK$2=0,"",((D18-C18)/ABS(C18))),"") | AL18: =IFERROR(IF(AL$2=0,"",((E18-D18)/ABS(D18))),"") | AM18: =IFERROR(IF(AM$2=0,"",((F18-E18)/ABS(E18))),"") | AN18: =IFERROR(IF(AN$2=0,"",((G18-F18)/ABS(F18))),"") | AO18: =IFERROR(IF(AO$2=0,"",((H18-G18)/ABS(G18))),"") | AP18: =IFERROR(IF(AP$2=0,"",((I18-H18)/ABS(H18))),"") | AQ18: =IFERROR(IF(AQ$2=0,"",((J18-I18)/ABS(I18))),"") | AR18: =IFERROR(IF(AR$2=0,"",((K18-J18)/ABS(J18))),"")
A19: TOTAL ACTIVO (A+B) | B19: =B3+B11 -> 0 | C19: =C3+C11 -> 0 | D19: =D3+D11 -> 0 | E19: =E3+E11 -> 0 | F19: =F3+F11 -> 0 | G19: =G3+G11 -> 0 | H19: =H3+H11 -> 0 | I19: =I3+I11 -> 0 | ... K19: =K3+K11 -> 0 | M19: =IFERROR(B19/B$19,"") | N19: =IFERROR(C19/C$19,"") | O19: =IFERROR(D19/D$19,"") | P19: =IFERROR(E19/E$19,"") | Q19: =IFERROR(F19/F$19,"") | R19: =IFERROR(G19/G$19,"") | S19: =IFERROR(H19/H$19,"") | T19: =IFERROR(I19/I$19,"") | ... V19: =IFERROR(K19/K$19,"") | X19: =IFERROR(IF(X$2=0,"",IF((AND($B19,B19)>0),(((B19-$B19)/($B19))),(((B19-$B19)/ABS($B19))))),"") | Y19: =IFERROR(IF(Y$2=0,"",IF((AND($B19,C19)>0),(((C19-$B19)/($B19))),(((C19-$B19)/ABS($B19))))),"") | Z19: =IFERROR(IF(Z$2=0,"",IF((AND($B19,D19)>0),(((D19-$B19)/($B19))),(((D19-$B19)/ABS($B19))))),"") | AA19: =IFERROR(IF(AA$2=0,"",IF((AND($B19,E19)>0),(((E19-$B19)/($B19))),(((E19-$B19)/ABS($B19))))),"") | AB19: =IFERROR(IF(AB$2=0,"",IF((AND($B19,F19)>0),(((F19-$B19)/($B19))),(((F19-$B19)/ABS($B19))))),"") | AC19: =IFERROR(IF(AC$2=0,"",IF((AND($B19,G19)>0),(((G19-$B19)/($B19))),(((G19-$B19)/ABS($B19))))),"") | AD19: =IFERROR(IF(AD$2=0,"",IF((AND($B19,H19)>0),(((H19-$B19)/($B19))),(((H19-$B19)/ABS($B19))))),"") | AE19: =IFERROR(IF(AE$2=0,"",IF((AND($B19,I19)>0),(((I19-$B19)/($B19))),(((I19-$B19)/ABS($B19))))),"") | ... AG19: =IFERROR(IF(AG$2=0,"",IF((AND($B19,K19)>0),(((K19-$B19)/($B19))),(((K19-$B19)/ABS($B19))))),"") | AI19: =IFERROR(IF(AI$2=0,"",((B19-B19)/ABS(B19))),"") | AJ19: =IFERROR(IF(AJ$2=0,"",((C19-B19)/ABS(B19))),"") | AK19: =IFERROR(IF(AK$2=0,"",((D19-C19)/ABS(C19))),"") | AL19: =IFERROR(IF(AL$2=0,"",((E19-D19)/ABS(D19))),"") | AM19: =IFERROR(IF(AM$2=0,"",((F19-E19)/ABS(E19))),"") | AN19: =IFERROR(IF(AN$2=0,"",((G19-F19)/ABS(F19))),"") | AO19: =IFERROR(IF(AO$2=0,"",((H19-G19)/ABS(G19))),"") | AP19: =IFERROR(IF(AP$2=0,"",((I19-H19)/ABS(H19))),"") | AQ19: =IFERROR(IF(AQ$2=0,"",((J19-I19)/ABS(I19))),"") | AR19: =IFERROR(IF(AR$2=0,"",((K19-J19)/ABS(J19))),"")
A20: A. PATRIMONIO NETO | B20: =B21+B30+B34 -> 0 | C20: =C21+C30+C34 -> 0 | D20: =D21+D30+D34 -> 0 | E20: =E21+E30+E34 -> 0 | F20: =F21+F30+F34 -> 0 | G20: =G21+G30+G34 -> 0 | H20: =H21+H34 -> 0 | I20: =I21+I34 -> 0 | J20: =J21+J34 -> 0 | K20: =K21+K34 -> 0 | M20: =IFERROR(B20/B$19,"") | N20: =IFERROR(C20/C$19,"") | O20: =IFERROR(D20/D$19,"") | P20: =IFERROR(E20/E$19,"") | Q20: =IFERROR(F20/F$19,"") | R20: =IFERROR(G20/G$19,"") | S20: =IFERROR(H20/H$19,"") | T20: =IFERROR(I20/I$19,"") | ... V20: =IFERROR(K20/K$19,"") | X20: =IFERROR(IF(X$2=0,"",IF((AND($B20,B20)>0),(((B20-$B20)/($B20))),(((B20-$B20)/ABS($B20))))),"") | Y20: =IFERROR(IF(Y$2=0,"",IF((AND($B20,C20)>0),(((C20-$B20)/($B20))),(((C20-$B20)/ABS($B20))))),"") | Z20: =IFERROR(IF(Z$2=0,"",IF((AND($B20,D20)>0),(((D20-$B20)/($B20))),(((D20-$B20)/ABS($B20))))),"") | AA20: =IFERROR(IF(AA$2=0,"",IF((AND($B20,E20)>0),(((E20-$B20)/($B20))),(((E20-$B20)/ABS($B20))))),"") | AB20: =IFERROR(IF(AB$2=0,"",IF((AND($B20,F20)>0),(((F20-$B20)/($B20))),(((F20-$B20)/ABS($B20))))),"") | AC20: =IFERROR(IF(AC$2=0,"",IF((AND($B20,G20)>0),(((G20-$B20)/($B20))),(((G20-$B20)/ABS($B20))))),"") | AD20: =IFERROR(IF(AD$2=0,"",IF((AND($B20,H20)>0),(((H20-$B20)/($B20))),(((H20-$B20)/ABS($B20))))),"") | AE20: =IFERROR(IF(AE$2=0,"",IF((AND($B20,I20)>0),(((I20-$B20)/($B20))),(((I20-$B20)/ABS($B20))))),"") | ... AG20: =IFERROR(IF(AG$2=0,"",IF((AND($B20,K20)>0),(((K20-$B20)/($B20))),(((K20-$B20)/ABS($B20))))),"") | AI20: =IFERROR(IF(AI$2=0,"",((B20-B20)/ABS(B20))),"") | AJ20: =IFERROR(IF(AJ$2=0,"",((C20-B20)/ABS(B20))),"") | AK20: =IFERROR(IF(AK$2=0,"",((D20-C20)/ABS(C20))),"") | AL20: =IFERROR(IF(AL$2=0,"",((E20-D20)/ABS(D20))),"") | AM20: =IFERROR(IF(AM$2=0,"",((F20-E20)/ABS(E20))),"") | AN20: =IFERROR(IF(AN$2=0,"",((G20-F20)/ABS(F20))),"") | AO20: =IFERROR(IF(AO$2=0,"",((H20-G20)/ABS(G20))),"") | AP20: =IFERROR(IF(AP$2=0,"",((I20-H20)/ABS(H20))),"") | AQ20: =IFERROR(IF(AQ$2=0,"",((J20-I20)/ABS(I20))),"") | AR20: =IFERROR(IF(AR$2=0,"",((K20-J20)/ABS(J20))),"")
A21: A-1) Fondos propios | B21: =SUM(B22:B29) -> 0 | C21: =SUM(C22:C29) -> 0 | D21: =SUM(D22:D29) -> 0 | E21: =SUM(E22:E29) -> 0 | F21: =SUM(F22:F29) -> 0 | G21: =SUM(G22:G29) -> 0 | H21: =SUM(H22:H29) -> 0 | I21: =SUM(I22:I29) -> 0 | ... K21: =SUM(K22:K29) -> 0 | M21: =IFERROR(B21/B$19,"") | N21: =IFERROR(C21/C$19,"") | O21: =IFERROR(D21/D$19,"") | P21: =IFERROR(E21/E$19,"") | Q21: =IFERROR(F21/F$19,"") | R21: =IFERROR(G21/G$19,"") | S21: =IFERROR(H21/H$19,"") | T21: =IFERROR(I21/I$19,"") | ... V21: =IFERROR(K21/K$19,"") | X21: =IFERROR(IF(X$2=0,"",IF((AND($B21,B21)>0),(((B21-$B21)/($B21))),(((B21-$B21)/ABS($B21))))),"") | Y21: =IFERROR(IF(Y$2=0,"",IF((AND($B21,C21)>0),(((C21-$B21)/($B21))),(((C21-$B21)/ABS($B21))))),"") | Z21: =IFERROR(IF(Z$2=0,"",IF((AND($B21,D21)>0),(((D21-$B21)/($B21))),(((D21-$B21)/ABS($B21))))),"") | AA21: =IFERROR(IF(AA$2=0,"",IF((AND($B21,E21)>0),(((E21-$B21)/($B21))),(((E21-$B21)/ABS($B21))))),"") | AB21: =IFERROR(IF(AB$2=0,"",IF((AND($B21,F21)>0),(((F21-$B21)/($B21))),(((F21-$B21)/ABS($B21))))),"") | AC21: =IFERROR(IF(AC$2=0,"",IF((AND($B21,G21)>0),(((G21-$B21)/($B21))),(((G21-$B21)/ABS($B21))))),"") | AD21: =IFERROR(IF(AD$2=0,"",IF((AND($B21,H21)>0),(((H21-$B21)/($B21))),(((H21-$B21)/ABS($B21))))),"") | AE21: =IFERROR(IF(AE$2=0,"",IF((AND($B21,I21)>0),(((I21-$B21)/($B21))),(((I21-$B21)/ABS($B21))))),"") | ... AG21: =IFERROR(IF(AG$2=0,"",IF((AND($B21,K21)>0),(((K21-$B21)/($B21))),(((K21-$B21)/ABS($B21))))),"") | AI21: =IFERROR(IF(AI$2=0,"",((B21-B21)/ABS(B21))),"") | AJ21: =IFERROR(IF(AJ$2=0,"",((C21-B21)/ABS(B21))),"") | AK21: =IFERROR(IF(AK$2=0,"",((D21-C21)/ABS(C21))),"") | AL21: =IFERROR(IF(AL$2=0,"",((E21-D21)/ABS(D21))),"") | AM21: =IFERROR(IF(AM$2=0,"",((F21-E21)/ABS(E21))),"") | AN21: =IFERROR(IF(AN$2=0,"",((G21-F21)/ABS(F21))),"") | AO21: =IFERROR(IF(AO$2=0,"",((H21-G21)/ABS(G21))),"") | AP21: =IFERROR(IF(AP$2=0,"",((I21-H21)/ABS(H21))),"") | AQ21: =IFERROR(IF(AQ$2=0,"",((J21-I21)/ABS(I21))),"") | AR21: =IFERROR(IF(AR$2=0,"",((K21-J21)/ABS(J21))),"")
A22: I. Capital | M22: =IFERROR(B22/B$19,"") | N22: =IFERROR(C22/C$19,"") | O22: =IFERROR(D22/D$19,"") | P22: =IFERROR(E22/E$19,"") | Q22: =IFERROR(F22/F$19,"") | R22: =IFERROR(G22/G$19,"") | S22: =IFERROR(H22/H$19,"") | T22: =IFERROR(I22/I$19,"") | ... V22: =IFERROR(K22/K$19,"") | X22: =IFERROR(IF(X$2=0,"",IF((AND($B22,B22)>0),(((B22-$B22)/($B22))),(((B22-$B22)/ABS($B22))))),"") | Y22: =IFERROR(IF(Y$2=0,"",IF((AND($B22,C22)>0),(((C22-$B22)/($B22))),(((C22-$B22)/ABS($B22))))),"") | Z22: =IFERROR(IF(Z$2=0,"",IF((AND($B22,D22)>0),(((D22-$B22)/($B22))),(((D22-$B22)/ABS($B22))))),"") | AA22: =IFERROR(IF(AA$2=0,"",IF((AND($B22,E22)>0),(((E22-$B22)/($B22))),(((E22-$B22)/ABS($B22))))),"") | AB22: =IFERROR(IF(AB$2=0,"",IF((AND($B22,F22)>0),(((F22-$B22)/($B22))),(((F22-$B22)/ABS($B22))))),"") | AC22: =IFERROR(IF(AC$2=0,"",IF((AND($B22,G22)>0),(((G22-$B22)/($B22))),(((G22-$B22)/ABS($B22))))),"") | AD22: =IFERROR(IF(AD$2=0,"",IF((AND($B22,H22)>0),(((H22-$B22)/($B22))),(((H22-$B22)/ABS($B22))))),"") | AE22: =IFERROR(IF(AE$2=0,"",IF((AND($B22,I22)>0),(((I22-$B22)/($B22))),(((I22-$B22)/ABS($B22))))),"") | ... AG22: =IFERROR(IF(AG$2=0,"",IF((AND($B22,K22)>0),(((K22-$B22)/($B22))),(((K22-$B22)/ABS($B22))))),"") | AI22: =IFERROR(IF(AI$2=0,"",((B22-B22)/ABS(B22))),"") | AJ22: =IFERROR(IF(AJ$2=0,"",((C22-B22)/ABS(B22))),"") | AK22: =IFERROR(IF(AK$2=0,"",((D22-C22)/ABS(C22))),"") | AL22: =IFERROR(IF(AL$2=0,"",((E22-D22)/ABS(D22))),"") | AM22: =IFERROR(IF(AM$2=0,"",((F22-E22)/ABS(E22))),"") | AN22: =IFERROR(IF(AN$2=0,"",((G22-F22)/ABS(F22))),"") | AO22: =IFERROR(IF(AO$2=0,"",((H22-G22)/ABS(G22))),"") | AP22: =IFERROR(IF(AP$2=0,"",((I22-H22)/ABS(H22))),"") | AQ22: =IFERROR(IF(AQ$2=0,"",((J22-I22)/ABS(I22))),"") | AR22: =IFERROR(IF(AR$2=0,"",((K22-J22)/ABS(J22))),"")
A23: II. Prima de emisión | M23: =IFERROR(B23/B$19,"") | N23: =IFERROR(C23/C$19,"") | O23: =IFERROR(D23/D$19,"") | P23: =IFERROR(E23/E$19,"") | Q23: =IFERROR(F23/F$19,"") | R23: =IFERROR(G23/G$19,"") | S23: =IFERROR(H23/H$19,"") | T23: =IFERROR(I23/I$19,"") | ... V23: =IFERROR(K23/K$19,"") | X23: =IFERROR(IF(X$2=0,"",IF((AND($B23,B23)>0),(((B23-$B23)/($B23))),(((B23-$B23)/ABS($B23))))),"") | Y23: =IFERROR(IF(Y$2=0,"",IF((AND($B23,C23)>0),(((C23-$B23)/($B23))),(((C23-$B23)/ABS($B23))))),"") | Z23: =IFERROR(IF(Z$2=0,"",IF((AND($B23,D23)>0),(((D23-$B23)/($B23))),(((D23-$B23)/ABS($B23))))),"") | AA23: =IFERROR(IF(AA$2=0,"",IF((AND($B23,E23)>0),(((E23-$B23)/($B23))),(((E23-$B23)/ABS($B23))))),"") | AB23: =IFERROR(IF(AB$2=0,"",IF((AND($B23,F23)>0),(((F23-$B23)/($B23))),(((F23-$B23)/ABS($B23))))),"") | AC23: =IFERROR(IF(AC$2=0,"",IF((AND($B23,G23)>0),(((G23-$B23)/($B23))),(((G23-$B23)/ABS($B23))))),"") | AD23: =IFERROR(IF(AD$2=0,"",IF((AND($B23,H23)>0),(((H23-$B23)/($B23))),(((H23-$B23)/ABS($B23))))),"") | AE23: =IFERROR(IF(AE$2=0,"",IF((AND($B23,I23)>0),(((I23-$B23)/($B23))),(((I23-$B23)/ABS($B23))))),"") | ... AG23: =IFERROR(IF(AG$2=0,"",IF((AND($B23,K23)>0),(((K23-$B23)/($B23))),(((K23-$B23)/ABS($B23))))),"") | AI23: =IFERROR(IF(AI$2=0,"",((B23-B23)/ABS(B23))),"") | AJ23: =IFERROR(IF(AJ$2=0,"",((C23-B23)/ABS(B23))),"") | AK23: =IFERROR(IF(AK$2=0,"",((D23-C23)/ABS(C23))),"") | AL23: =IFERROR(IF(AL$2=0,"",((E23-D23)/ABS(D23))),"") | AM23: =IFERROR(IF(AM$2=0,"",((F23-E23)/ABS(E23))),"") | AN23: =IFERROR(IF(AN$2=0,"",((G23-F23)/ABS(F23))),"") | AO23: =IFERROR(IF(AO$2=0,"",((H23-G23)/ABS(G23))),"") | AP23: =IFERROR(IF(AP$2=0,"",((I23-H23)/ABS(H23))),"") | AQ23: =IFERROR(IF(AQ$2=0,"",((J23-I23)/ABS(I23))),"") | AR23: =IFERROR(IF(AR$2=0,"",((K23-J23)/ABS(J23))),"")
A24: III. Reservas | M24: =IFERROR(B24/B$19,"") | N24: =IFERROR(C24/C$19,"") | O24: =IFERROR(D24/D$19,"") | P24: =IFERROR(E24/E$19,"") | Q24: =IFERROR(F24/F$19,"") | R24: =IFERROR(G24/G$19,"") | S24: =IFERROR(H24/H$19,"") | T24: =IFERROR(I24/I$19,"") | ... V24: =IFERROR(K24/K$19,"") | X24: =IFERROR(IF(X$2=0,"",IF((AND($B24,B24)>0),(((B24-$B24)/($B24))),(((B24-$B24)/ABS($B24))))),"") | Y24: =IFERROR(IF(Y$2=0,"",IF((AND($B24,C24)>0),(((C24-$B24)/($B24))),(((C24-$B24)/ABS($B24))))),"") | Z24: =IFERROR(IF(Z$2=0,"",IF((AND($B24,D24)>0),(((D24-$B24)/($B24))),(((D24-$B24)/ABS($B24))))),"") | AA24: =IFERROR(IF(AA$2=0,"",IF((AND($B24,E24)>0),(((E24-$B24)/($B24))),(((E24-$B24)/ABS($B24))))),"") | AB24: =IFERROR(IF(AB$2=0,"",IF((AND($B24,F24)>0),(((F24-$B24)/($B24))),(((F24-$B24)/ABS($B24))))),"") | AC24: =IFERROR(IF(AC$2=0,"",IF((AND($B24,G24)>0),(((G24-$B24)/($B24))),(((G24-$B24)/ABS($B24))))),"") | AD24: =IFERROR(IF(AD$2=0,"",IF((AND($B24,H24)>0),(((H24-$B24)/($B24))),(((H24-$B24)/ABS($B24))))),"") | AE24: =IFERROR(IF(AE$2=0,"",IF((AND($B24,I24)>0),(((I24-$B24)/($B24))),(((I24-$B24)/ABS($B24))))),"") | ... AG24: =IFERROR(IF(AG$2=0,"",IF((AND($B24,K24)>0),(((K24-$B24)/($B24))),(((K24-$B24)/ABS($B24))))),"") | AI24: =IFERROR(IF(AI$2=0,"",((B24-B24)/ABS(B24))),"") | AJ24: =IFERROR(IF(AJ$2=0,"",((C24-B24)/ABS(B24))),"") | AK24: =IFERROR(IF(AK$2=0,"",((D24-C24)/ABS(C24))),"") | AL24: =IFERROR(IF(AL$2=0,"",((E24-D24)/ABS(D24))),"") | AM24: =IFERROR(IF(AM$2=0,"",((F24-E24)/ABS(E24))),"") | AN24: =IFERROR(IF(AN$2=0,"",((G24-F24)/ABS(F24))),"") | AO24: =IFERROR(IF(AO$2=0,"",((H24-G24)/ABS(G24))),"") | AP24: =IFERROR(IF(AP$2=0,"",((I24-H24)/ABS(H24))),"") | AQ24: =IFERROR(IF(AQ$2=0,"",((J24-I24)/ABS(I24))),"") | AR24: =IFERROR(IF(AR$2=0,"",((K24-J24)/ABS(J24))),"")
A25: IV. Acciones y participaciones en patrimonio propias
A26: V. Resultados de ejercicios anteriores | M26: =IFERROR(B26/B$19,"") | N26: =IFERROR(C26/C$19,"") | O26: =IFERROR(D26/D$19,"") | P26: =IFERROR(E26/E$19,"") | Q26: =IFERROR(F26/F$19,"") | R26: =IFERROR(G26/G$19,"") | S26: =IFERROR(H26/H$19,"") | T26: =IFERROR(I26/I$19,"") | ... V26: =IFERROR(K26/K$19,"") | X26: =IFERROR(IF(X$2=0,"",IF((AND($B26,B26)>0),(((B26-$B26)/($B26))),(((B26-$B26)/ABS($B26))))),"") | Y26: =IFERROR(IF(Y$2=0,"",IF((AND($B26,C26)>0),(((C26-$B26)/($B26))),(((C26-$B26)/ABS($B26))))),"") | Z26: =IFERROR(IF(Z$2=0,"",IF((AND($B26,D26)>0),(((D26-$B26)/($B26))),(((D26-$B26)/ABS($B26))))),"") | AA26: =IFERROR(IF(AA$2=0,"",IF((AND($B26,E26)>0),(((E26-$B26)/($B26))),(((E26-$B26)/ABS($B26))))),"") | AB26: =IFERROR(IF(AB$2=0,"",IF((AND($B26,F26)>0),(((F26-$B26)/($B26))),(((F26-$B26)/ABS($B26))))),"") | AC26: =IFERROR(IF(AC$2=0,"",IF((AND($B26,G26)>0),(((G26-$B26)/($B26))),(((G26-$B26)/ABS($B26))))),"") | AD26: =IFERROR(IF(AD$2=0,"",IF((AND($B26,H26)>0),(((H26-$B26)/($B26))),(((H26-$B26)/ABS($B26))))),"") | AE26: =IFERROR(IF(AE$2=0,"",IF((AND($B26,I26)>0),(((I26-$B26)/($B26))),(((I26-$B26)/ABS($B26))))),"") | ... AG26: =IFERROR(IF(AG$2=0,"",IF((AND($B26,K26)>0),(((K26-$B26)/($B26))),(((K26-$B26)/ABS($B26))))),"") | AI26: =IFERROR(IF(AI$2=0,"",((B26-B26)/ABS(B26))),"") | AJ26: =IFERROR(IF(AJ$2=0,"",((C26-B26)/ABS(B26))),"") | AK26: =IFERROR(IF(AK$2=0,"",((D26-C26)/ABS(C26))),"") | AL26: =IFERROR(IF(AL$2=0,"",((E26-D26)/ABS(D26))),"") | AM26: =IFERROR(IF(AM$2=0,"",((F26-E26)/ABS(E26))),"") | AN26: =IFERROR(IF(AN$2=0,"",((G26-F26)/ABS(F26))),"") | AO26: =IFERROR(IF(AO$2=0,"",((H26-G26)/ABS(G26))),"") | AP26: =IFERROR(IF(AP$2=0,"",((I26-H26)/ABS(H26))),"") | AQ26: =IFERROR(IF(AQ$2=0,"",((J26-I26)/ABS(I26))),"") | AR26: =IFERROR(IF(AR$2=0,"",((K26-J26)/ABS(J26))),"")
A27: VI. Otras aportaciones de socios | M27: =IFERROR(B27/B$19,"") | N27: =IFERROR(C27/C$19,"") | O27: =IFERROR(D27/D$19,"") | P27: =IFERROR(E27/E$19,"") | Q27: =IFERROR(F27/F$19,"") | R27: =IFERROR(G27/G$19,"") | S27: =IFERROR(H27/H$19,"") | T27: =IFERROR(I27/I$19,"") | ... V27: =IFERROR(K27/K$19,"") | X27: =IFERROR(IF(X$2=0,"",IF((AND($B27,B27)>0),(((B27-$B27)/($B27))),(((B27-$B27)/ABS($B27))))),"") | Y27: =IFERROR(IF(Y$2=0,"",IF((AND($B27,C27)>0),(((C27-$B27)/($B27))),(((C27-$B27)/ABS($B27))))),"") | Z27: =IFERROR(IF(Z$2=0,"",IF((AND($B27,D27)>0),(((D27-$B27)/($B27))),(((D27-$B27)/ABS($B27))))),"") | AA27: =IFERROR(IF(AA$2=0,"",IF((AND($B27,E27)>0),(((E27-$B27)/($B27))),(((E27-$B27)/ABS($B27))))),"") | AB27: =IFERROR(IF(AB$2=0,"",IF((AND($B27,F27)>0),(((F27-$B27)/($B27))),(((F27-$B27)/ABS($B27))))),"") | AC27: =IFERROR(IF(AC$2=0,"",IF((AND($B27,G27)>0),(((G27-$B27)/($B27))),(((G27-$B27)/ABS($B27))))),"") | AD27: =IFERROR(IF(AD$2=0,"",IF((AND($B27,H27)>0),(((H27-$B27)/($B27))),(((H27-$B27)/ABS($B27))))),"") | AE27: =IFERROR(IF(AE$2=0,"",IF((AND($B27,I27)>0),(((I27-$B27)/($B27))),(((I27-$B27)/ABS($B27))))),"") | ... AG27: =IFERROR(IF(AG$2=0,"",IF((AND($B27,K27)>0),(((K27-$B27)/($B27))),(((K27-$B27)/ABS($B27))))),"") | AI27: =IFERROR(IF(AI$2=0,"",((B27-B27)/ABS(B27))),"") | AJ27: =IFERROR(IF(AJ$2=0,"",((C27-B27)/ABS(B27))),"") | AK27: =IFERROR(IF(AK$2=0,"",((D27-C27)/ABS(C27))),"") | AL27: =IFERROR(IF(AL$2=0,"",((E27-D27)/ABS(D27))),"") | AM27: =IFERROR(IF(AM$2=0,"",((F27-E27)/ABS(E27))),"") | AN27: =IFERROR(IF(AN$2=0,"",((G27-F27)/ABS(F27))),"") | AO27: =IFERROR(IF(AO$2=0,"",((H27-G27)/ABS(G27))),"") | AP27: =IFERROR(IF(AP$2=0,"",((I27-H27)/ABS(H27))),"") | AQ27: =IFERROR(IF(AQ$2=0,"",((J27-I27)/ABS(I27))),"") | AR27: =IFERROR(IF(AR$2=0,"",((K27-J27)/ABS(J27))),"")
A28: VII. Resultado del ejercicio | M28: =IFERROR(B28/B$19,"") | N28: =IFERROR(C28/C$19,"") | O28: =IFERROR(D28/D$19,"") | P28: =IFERROR(E28/E$19,"") | Q28: =IFERROR(F28/F$19,"") | R28: =IFERROR(G28/G$19,"") | S28: =IFERROR(H28/H$19,"") | T28: =IFERROR(I28/I$19,"") | ... V28: =IFERROR(K28/K$19,"") | X28: =IFERROR(IF(X$2=0,"",IF((AND($B28,B28)>0),(((B28-$B28)/($B28))),(((B28-$B28)/ABS($B28))))),"") | Y28: =IFERROR(IF(Y$2=0,"",IF((AND($B28,C28)>0),(((C28-$B28)/($B28))),(((C28-$B28)/ABS($B28))))),"") | Z28: =IFERROR(IF(Z$2=0,"",IF((AND($B28,D28)>0),(((D28-$B28)/($B28))),(((D28-$B28)/ABS($B28))))),"") | AA28: =IFERROR(IF(AA$2=0,"",IF((AND($B28,E28)>0),(((E28-$B28)/($B28))),(((E28-$B28)/ABS($B28))))),"") | AB28: =IFERROR(IF(AB$2=0,"",IF((AND($B28,F28)>0),(((F28-$B28)/($B28))),(((F28-$B28)/ABS($B28))))),"") | AC28: =IFERROR(IF(AC$2=0,"",IF((AND($B28,G28)>0),(((G28-$B28)/($B28))),(((G28-$B28)/ABS($B28))))),"") | AD28: =IFERROR(IF(AD$2=0,"",IF((AND($B28,H28)>0),(((H28-$B28)/($B28))),(((H28-$B28)/ABS($B28))))),"") | AE28: =IFERROR(IF(AE$2=0,"",IF((AND($B28,I28)>0),(((I28-$B28)/($B28))),(((I28-$B28)/ABS($B28))))),"") | ... AG28: =IFERROR(IF(AG$2=0,"",IF((AND($B28,K28)>0),(((K28-$B28)/($B28))),(((K28-$B28)/ABS($B28))))),"") | AI28: =IFERROR(IF(AI$2=0,"",((B28-B28)/ABS(B28))),"") | AJ28: =IFERROR(IF(AJ$2=0,"",((C28-B28)/ABS(B28))),"") | AK28: =IFERROR(IF(AK$2=0,"",((D28-C28)/ABS(C28))),"") | AL28: =IFERROR(IF(AL$2=0,"",((E28-D28)/ABS(D28))),"") | AM28: =IFERROR(IF(AM$2=0,"",((F28-E28)/ABS(E28))),"") | AN28: =IFERROR(IF(AN$2=0,"",((G28-F28)/ABS(F28))),"") | AO28: =IFERROR(IF(AO$2=0,"",((H28-G28)/ABS(G28))),"") | AP28: =IFERROR(IF(AP$2=0,"",((I28-H28)/ABS(H28))),"") | AQ28: =IFERROR(IF(AQ$2=0,"",((J28-I28)/ABS(I28))),"") | AR28: =IFERROR(IF(AR$2=0,"",((K28-J28)/ABS(J28))),"")
A29: VIII. Dividendo a cuenta
A30: A-2) Ajustes por cambios de valor | B30: =SUM(B31:B33) -> 0 | C30: =SUM(C31:C33) -> 0 | D30: =SUM(D31:D33) -> 0 | E30: =SUM(E31:E33) -> 0 | F30: =SUM(F31:F33) -> 0 | G30: =SUM(G31:G33) -> 0
A31: i. Activos financieros a valor razonable con cambios en el patrimonio neto
A32: II. Operaciones de cobertura
A33: III. Otros
A34: A-3) Subvenciones, donaciones y legados recibidos | B34: =B35 -> 0 | C34: =C35 -> 0 | D34: =D35 -> 0 | E34: =E35 -> 0 | F34: =F35 -> 0 | G34: =G35 -> 0 | M34: =IFERROR(B34/B$19,"") | N34: =IFERROR(C34/C$19,"") | O34: =IFERROR(D34/D$19,"") | P34: =IFERROR(E34/E$19,"") | Q34: =IFERROR(F34/F$19,"") | R34: =IFERROR(G34/G$19,"") | S34: =IFERROR(H34/H$19,"") | T34: =IFERROR(I34/I$19,"") | ... V34: =IFERROR(K34/K$19,"") | X34: =IFERROR(IF(X$2=0,"",IF((AND($B34,B34)>0),(((B34-$B34)/($B34))),(((B34-$B34)/ABS($B34))))),"") | Y34: =IFERROR(IF(Y$2=0,"",IF((AND($B34,C34)>0),(((C34-$B34)/($B34))),(((C34-$B34)/ABS($B34))))),"") | Z34: =IFERROR(IF(Z$2=0,"",IF((AND($B34,D34)>0),(((D34-$B34)/($B34))),(((D34-$B34)/ABS($B34))))),"") | AA34: =IFERROR(IF(AA$2=0,"",IF((AND($B34,E34)>0),(((E34-$B34)/($B34))),(((E34-$B34)/ABS($B34))))),"") | AB34: =IFERROR(IF(AB$2=0,"",IF((AND($B34,F34)>0),(((F34-$B34)/($B34))),(((F34-$B34)/ABS($B34))))),"") | AC34: =IFERROR(IF(AC$2=0,"",IF((AND($B34,G34)>0),(((G34-$B34)/($B34))),(((G34-$B34)/ABS($B34))))),"") | AD34: =IFERROR(IF(AD$2=0,"",IF((AND($B34,H34)>0),(((H34-$B34)/($B34))),(((H34-$B34)/ABS($B34))))),"") | AE34: =IFERROR(IF(AE$2=0,"",IF((AND($B34,I34)>0),(((I34-$B34)/($B34))),(((I34-$B34)/ABS($B34))))),"") | ... AG34: =IFERROR(IF(AG$2=0,"",IF((AND($B34,K34)>0),(((K34-$B34)/($B34))),(((K34-$B34)/ABS($B34))))),"") | AI34: =IFERROR(IF(AI$2=0,"",((B34-B34)/ABS(B34))),"") | AJ34: =IFERROR(IF(AJ$2=0,"",((C34-B34)/ABS(B34))),"") | AK34: =IFERROR(IF(AK$2=0,"",((D34-C34)/ABS(C34))),"") | AL34: =IFERROR(IF(AL$2=0,"",((E34-D34)/ABS(D34))),"") | AM34: =IFERROR(IF(AM$2=0,"",((F34-E34)/ABS(E34))),"") | AN34: =IFERROR(IF(AN$2=0,"",((G34-F34)/ABS(F34))),"") | AO34: =IFERROR(IF(AO$2=0,"",((H34-G34)/ABS(G34))),"") | AP34: =IFERROR(IF(AP$2=0,"",((I34-H34)/ABS(H34))),"") | AQ34: =IFERROR(IF(AQ$2=0,"",((J34-I34)/ABS(I34))),"") | AR34: =IFERROR(IF(AR$2=0,"",((K34-J34)/ABS(J34))),"")
A35: I. Subvenciones, donaciones y legados recibidos
A36: B. PASIVO NO CORRIENTE | B36: =SUM(B37:B41) -> 0 | C36: =SUM(C37:C41) -> 0 | D36: =SUM(D37:D41) -> 0 | E36: =SUM(E37:E41) -> 0 | F36: =SUM(F37:F41) -> 0 | G36: =SUM(G37:G41) -> 0 | H36: =SUM(H37:H41) -> 0 | I36: =SUM(I37:I41) -> 0 | ... K36: =SUM(K37:K41) -> 0 | M36: =IFERROR(B36/B$19,"") | N36: =IFERROR(C36/C$19,"") | O36: =IFERROR(D36/D$19,"") | P36: =IFERROR(E36/E$19,"") | Q36: =IFERROR(F36/F$19,"") | R36: =IFERROR(G36/G$19,"") | S36: =IFERROR(H36/H$19,"") | T36: =IFERROR(I36/I$19,"") | ... V36: =IFERROR(K36/K$19,"") | X36: =IFERROR(IF(X$2=0,"",IF((AND($B36,B36)>0),(((B36-$B36)/($B36))),(((B36-$B36)/ABS($B36))))),"") | Y36: =IFERROR(IF(Y$2=0,"",IF((AND($B36,C36)>0),(((C36-$B36)/($B36))),(((C36-$B36)/ABS($B36))))),"") | Z36: =IFERROR(IF(Z$2=0,"",IF((AND($B36,D36)>0),(((D36-$B36)/($B36))),(((D36-$B36)/ABS($B36))))),"") | AA36: =IFERROR(IF(AA$2=0,"",IF((AND($B36,E36)>0),(((E36-$B36)/($B36))),(((E36-$B36)/ABS($B36))))),"") | AB36: =IFERROR(IF(AB$2=0,"",IF((AND($B36,F36)>0),(((F36-$B36)/($B36))),(((F36-$B36)/ABS($B36))))),"") | AC36: =IFERROR(IF(AC$2=0,"",IF((AND($B36,G36)>0),(((G36-$B36)/($B36))),(((G36-$B36)/ABS($B36))))),"") | AD36: =IFERROR(IF(AD$2=0,"",IF((AND($B36,H36)>0),(((H36-$B36)/($B36))),(((H36-$B36)/ABS($B36))))),"") | AE36: =IFERROR(IF(AE$2=0,"",IF((AND($B36,I36)>0),(((I36-$B36)/($B36))),(((I36-$B36)/ABS($B36))))),"") | ... AG36: =IFERROR(IF(AG$2=0,"",IF((AND($B36,K36)>0),(((K36-$B36)/($B36))),(((K36-$B36)/ABS($B36))))),"") | AI36: =IFERROR(IF(AI$2=0,"",((B36-B36)/ABS(B36))),"") | AJ36: =IFERROR(IF(AJ$2=0,"",((C36-B36)/ABS(B36))),"") | AK36: =IFERROR(IF(AK$2=0,"",((D36-C36)/ABS(C36))),"") | AL36: =IFERROR(IF(AL$2=0,"",((E36-D36)/ABS(D36))),"") | AM36: =IFERROR(IF(AM$2=0,"",((F36-E36)/ABS(E36))),"") | AN36: =IFERROR(IF(AN$2=0,"",((G36-F36)/ABS(F36))),"") | AO36: =IFERROR(IF(AO$2=0,"",((H36-G36)/ABS(G36))),"") | AP36: =IFERROR(IF(AP$2=0,"",((I36-H36)/ABS(H36))),"") | AQ36: =IFERROR(IF(AQ$2=0,"",((J36-I36)/ABS(I36))),"") | AR36: =IFERROR(IF(AR$2=0,"",((K36-J36)/ABS(J36))),"")
A37: I. Provisiones a largo plazo
A38: II. Deudas a largo plazo | M38: =IFERROR(B38/B$19,"") | N38: =IFERROR(C38/C$19,"") | O38: =IFERROR(D38/D$19,"") | P38: =IFERROR(E38/E$19,"") | Q38: =IFERROR(F38/F$19,"") | R38: =IFERROR(G38/G$19,"") | S38: =IFERROR(H38/H$19,"") | T38: =IFERROR(I38/I$19,"") | ... V38: =IFERROR(K38/K$19,"") | X38: =IFERROR(IF(X$2=0,"",IF((AND($B38,B38)>0),(((B38-$B38)/($B38))),(((B38-$B38)/ABS($B38))))),"") | Y38: =IFERROR(IF(Y$2=0,"",IF((AND($B38,C38)>0),(((C38-$B38)/($B38))),(((C38-$B38)/ABS($B38))))),"") | Z38: =IFERROR(IF(Z$2=0,"",IF((AND($B38,D38)>0),(((D38-$B38)/($B38))),(((D38-$B38)/ABS($B38))))),"") | AA38: =IFERROR(IF(AA$2=0,"",IF((AND($B38,E38)>0),(((E38-$B38)/($B38))),(((E38-$B38)/ABS($B38))))),"") | AB38: =IFERROR(IF(AB$2=0,"",IF((AND($B38,F38)>0),(((F38-$B38)/($B38))),(((F38-$B38)/ABS($B38))))),"") | AC38: =IFERROR(IF(AC$2=0,"",IF((AND($B38,G38)>0),(((G38-$B38)/($B38))),(((G38-$B38)/ABS($B38))))),"") | AD38: =IFERROR(IF(AD$2=0,"",IF((AND($B38,H38)>0),(((H38-$B38)/($B38))),(((H38-$B38)/ABS($B38))))),"") | AE38: =IFERROR(IF(AE$2=0,"",IF((AND($B38,I38)>0),(((I38-$B38)/($B38))),(((I38-$B38)/ABS($B38))))),"") | ... AG38: =IFERROR(IF(AG$2=0,"",IF((AND($B38,K38)>0),(((K38-$B38)/($B38))),(((K38-$B38)/ABS($B38))))),"") | AI38: =IFERROR(IF(AI$2=0,"",((B38-B38)/ABS(B38))),"") | AJ38: =IFERROR(IF(AJ$2=0,"",((C38-B38)/ABS(B38))),"") | AK38: =IFERROR(IF(AK$2=0,"",((D38-C38)/ABS(C38))),"") | AL38: =IFERROR(IF(AL$2=0,"",((E38-D38)/ABS(D38))),"") | AM38: =IFERROR(IF(AM$2=0,"",((F38-E38)/ABS(E38))),"") | AN38: =IFERROR(IF(AN$2=0,"",((G38-F38)/ABS(F38))),"") | AO38: =IFERROR(IF(AO$2=0,"",((H38-G38)/ABS(G38))),"") | AP38: =IFERROR(IF(AP$2=0,"",((I38-H38)/ABS(H38))),"") | AQ38: =IFERROR(IF(AQ$2=0,"",((J38-I38)/ABS(I38))),"") | AR38: =IFERROR(IF(AR$2=0,"",((K38-J38)/ABS(J38))),"")
A39: III. Deudas con empresas del grupo y asociadas a largo plazo | M39: =IFERROR(B39/B$19,"") | N39: =IFERROR(C39/C$19,"") | O39: =IFERROR(D39/D$19,"") | P39: =IFERROR(E39/E$19,"") | Q39: =IFERROR(F39/F$19,"") | R39: =IFERROR(G39/G$19,"") | S39: =IFERROR(H39/H$19,"") | T39: =IFERROR(I39/I$19,"") | ... V39: =IFERROR(K39/K$19,"") | X39: =IFERROR(IF(X$2=0,"",IF((AND($B39,B39)>0),(((B39-$B39)/($B39))),(((B39-$B39)/ABS($B39))))),"") | Y39: =IFERROR(IF(Y$2=0,"",IF((AND($B39,C39)>0),(((C39-$B39)/($B39))),(((C39-$B39)/ABS($B39))))),"") | Z39: =IFERROR(IF(Z$2=0,"",IF((AND($B39,D39)>0),(((D39-$B39)/($B39))),(((D39-$B39)/ABS($B39))))),"") | AA39: =IFERROR(IF(AA$2=0,"",IF((AND($B39,E39)>0),(((E39-$B39)/($B39))),(((E39-$B39)/ABS($B39))))),"") | AB39: =IFERROR(IF(AB$2=0,"",IF((AND($B39,F39)>0),(((F39-$B39)/($B39))),(((F39-$B39)/ABS($B39))))),"") | AC39: =IFERROR(IF(AC$2=0,"",IF((AND($B39,G39)>0),(((G39-$B39)/($B39))),(((G39-$B39)/ABS($B39))))),"") | AD39: =IFERROR(IF(AD$2=0,"",IF((AND($B39,H39)>0),(((H39-$B39)/($B39))),(((H39-$B39)/ABS($B39))))),"") | AE39: =IFERROR(IF(AE$2=0,"",IF((AND($B39,I39)>0),(((I39-$B39)/($B39))),(((I39-$B39)/ABS($B39))))),"") | ... AG39: =IFERROR(IF(AG$2=0,"",IF((AND($B39,K39)>0),(((K39-$B39)/($B39))),(((K39-$B39)/ABS($B39))))),"") | AI39: =IFERROR(IF(AI$2=0,"",((B39-B39)/ABS(B39))),"") | AJ39: =IFERROR(IF(AJ$2=0,"",((C39-B39)/ABS(B39))),"") | AK39: =IFERROR(IF(AK$2=0,"",((D39-C39)/ABS(C39))),"") | AL39: =IFERROR(IF(AL$2=0,"",((E39-D39)/ABS(D39))),"") | AM39: =IFERROR(IF(AM$2=0,"",((F39-E39)/ABS(E39))),"") | AN39: =IFERROR(IF(AN$2=0,"",((G39-F39)/ABS(F39))),"") | AO39: =IFERROR(IF(AO$2=0,"",((H39-G39)/ABS(G39))),"") | AP39: =IFERROR(IF(AP$2=0,"",((I39-H39)/ABS(H39))),"") | AQ39: =IFERROR(IF(AQ$2=0,"",((J39-I39)/ABS(I39))),"") | AR39: =IFERROR(IF(AR$2=0,"",((K39-J39)/ABS(J39))),"")
A40: IV. Pasivos por impuesto diferido | M40: =IFERROR(B40/B$19,"") | N40: =IFERROR(C40/C$19,"") | O40: =IFERROR(D40/D$19,"") | P40: =IFERROR(E40/E$19,"") | Q40: =IFERROR(F40/F$19,"") | R40: =IFERROR(G40/G$19,"") | S40: =IFERROR(H40/H$19,"") | T40: =IFERROR(I40/I$19,"") | ... V40: =IFERROR(K40/K$19,"") | X40: =IFERROR(IF(X$2=0,"",IF((AND($B40,B40)>0),(((B40-$B40)/($B40))),(((B40-$B40)/ABS($B40))))),"") | Y40: =IFERROR(IF(Y$2=0,"",IF((AND($B40,C40)>0),(((C40-$B40)/($B40))),(((C40-$B40)/ABS($B40))))),"") | Z40: =IFERROR(IF(Z$2=0,"",IF((AND($B40,D40)>0),(((D40-$B40)/($B40))),(((D40-$B40)/ABS($B40))))),"") | AA40: =IFERROR(IF(AA$2=0,"",IF((AND($B40,E40)>0),(((E40-$B40)/($B40))),(((E40-$B40)/ABS($B40))))),"") | AB40: =IFERROR(IF(AB$2=0,"",IF((AND($B40,F40)>0),(((F40-$B40)/($B40))),(((F40-$B40)/ABS($B40))))),"") | AC40: =IFERROR(IF(AC$2=0,"",IF((AND($B40,G40)>0),(((G40-$B40)/($B40))),(((G40-$B40)/ABS($B40))))),"") | AD40: =IFERROR(IF(AD$2=0,"",IF((AND($B40,H40)>0),(((H40-$B40)/($B40))),(((H40-$B40)/ABS($B40))))),"") | AE40: =IFERROR(IF(AE$2=0,"",IF((AND($B40,I40)>0),(((I40-$B40)/($B40))),(((I40-$B40)/ABS($B40))))),"") | ... AG40: =IFERROR(IF(AG$2=0,"",IF((AND($B40,K40)>0),(((K40-$B40)/($B40))),(((K40-$B40)/ABS($B40))))),"") | AI40: =IFERROR(IF(AI$2=0,"",((B40-B40)/ABS(B40))),"") | AJ40: =IFERROR(IF(AJ$2=0,"",((C40-B40)/ABS(B40))),"") | AK40: =IFERROR(IF(AK$2=0,"",((D40-C40)/ABS(C40))),"") | AL40: =IFERROR(IF(AL$2=0,"",((E40-D40)/ABS(D40))),"") | AM40: =IFERROR(IF(AM$2=0,"",((F40-E40)/ABS(E40))),"") | AN40: =IFERROR(IF(AN$2=0,"",((G40-F40)/ABS(F40))),"") | AO40: =IFERROR(IF(AO$2=0,"",((H40-G40)/ABS(G40))),"") | AP40: =IFERROR(IF(AP$2=0,"",((I40-H40)/ABS(H40))),"") | AQ40: =IFERROR(IF(AQ$2=0,"",((J40-I40)/ABS(I40))),"") | AR40: =IFERROR(IF(AR$2=0,"",((K40-J40)/ABS(J40))),"")
...

Sheet A2. PYG
A1: CUENTA DE PÉRDIDAS Y GANANCIAS | M1: ANÁLISIS VERTICAL | X1: ANÁLISIS HORIZONTAL (AÑO 0) | AI1: ANÁLISIS HORIZONTAL (AÑO N-1)
A2: (En Euros) | B2: ='A1. BALANCES'!B2 -> 2022 | C2: ='A1. BALANCES'!C2 -> 2023 | D2: ='A1. BALANCES'!D2 -> 2024 | E2: ='A1. BALANCES'!E2 -> 2025 | F2: ='A1. BALANCES'!F2 -> 2026 | G2: ='A1. BALANCES'!G2 -> 2027 | H2: ='A1. BALANCES'!H2 -> 0 | I2: ='A1. BALANCES'!I2 -> 0 | ... K2: ='A1. BALANCES'!K2 -> 0 | M2: ='A1. BALANCES'!M2 -> 2022 | N2: ='A1. BALANCES'!N2 -> 2023 | O2: ='A1. BALANCES'!O2 -> 2024 | P2: ='A1. BALANCES'!P2 -> 2025 | Q2: ='A1. BALANCES'!Q2 -> 2026 | R2: ='A1. BALANCES'!R2 -> 2027 | S2: ='A1. BALANCES'!S2 -> 0 | T2: ='A1. BALANCES'!T2 -> 0 | ... V2: ='A1. BALANCES'!V2 -> 0 | X2: ='A1. BALANCES'!X2 -> 2022 | Y2: ='A1. BALANCES'!Y2 -> 2023 | Z2: ='A1. BALANCES'!Z2 -> 2024 | AA2: ='A1. BALANCES'!AA2 -> 2025 | AB2: ='A1. BALANCES'!AB2 -> 2026 | AC2: ='A1. BALANCES'!AC2 -> 2027 | AD2: ='A1. BALANCES'!AD2 -> 0 | AE2: ='A1. BALANCES'!AE2 -> 0 | ... AG2: ='A1. BALANCES'!AG2 -> 0 | AI2: ='A1. BALANCES'!AI2 -> 2022 | AJ2: ='A1. BALANCES'!AJ2 -> 2023 | AK2: ='A1. BALANCES'!AK2 -> 2024 | AL2: ='A1. BALANCES'!AL2 -> 2025 | AM2: ='A1. BALANCES'!AM2 -> 2026 | AN2: ='A1. BALANCES'!AN2 -> 2027 | AO2: ='A1. BALANCES'!AO2 -> 0 | AP2: ='A1. BALANCES'!AP2 -> 0 | ... AR2: ='A1. BALANCES'!AR2 -> 0
