Workbook

Sheet anexo 1 (2)
B1: Pag. 1 | D1: ANEXO 1 - LISTA DE JUSTIFICANTES DE GASTOS | J1: Código: | L1: 1 Cheque | M1: 2 Metálico | N1: 3 Pagaré
E2: Relativa a los gastos de la presente petición de pago | L2: 4 Transfer. | M2: 5 Letra | N2: 6 Recibo
L3: 7 Abono
B4: Proyecto: | C4: Fecha de inicio de las inversiones: | H4: Fecha final de las inversiones:
B7: TRABAJOS PREVISTOS INICIALMENTE | F7: JUSTIFICANTES | K7: PAGOS EFECTUADOS
B9: Nº Presupuesto/Factura proforma | C9: Coste previsto | D9: Nº Factura | E9: Fecha | F9: Proveedor | G9: Objeto del gasto | H9: Importe sin I.V.A. | I9: % I.VA | J9: Cód. | K9: Fecha | L9: Importe con Impuestos incluidos | M9: I.V.A. Recupe-rable | N9: Importe sin I.V.A. Recupe-rable
L10: =N10+M10 -> 0 | M10: =I10*H10 -> 0 | N10: =H10 -> 0
L11: =N11+M11 -> 0 | M11: =I11*H11 -> 0 | N11: =H11 -> 0
L12: =N12+M12 -> 0 | M12: =I12*H12 -> 0 | N12: =H12 -> 0
L13: =N13+M13 -> 0 | M13: =I13*H13 -> 0 | N13: =H13 -> 0
L14: =N14+M14 -> 0 | M14: =I14*H14 -> 0 | N14: =H14 -> 0
L15: =N15+M15 -> 0 | M15: =I15*H15 -> 0 | N15: =H15 -> 0
L16: =N16+M16 -> 0 | M16: =I16*H16 -> 0 | N16: =H16 -> 0
L17: =N17+M17 -> 0 | M17: =I17*H17 -> 0 | N17: =H17 -> 0
L18: =N18+M18 -> 0 | M18: =I18*H18 -> 0 | N18: =H18 -> 0
L19: =N19+M19 -> 0 | M19: =I19*H19 -> 0 | N19: =H19 -> 0
L20: =N20+M20 -> 0 | M20: =I20*H20 -> 0 | N20: =H20 -> 0
L21: =N21+M21 -> 0 | M21: =I21*H21 -> 0 | N21: =H21 -> 0
... L35: =N35+M35 -> 0 | M35: =I35*H35 -> 0 | N35: =H35 -> 0
B37: Nº Partida presupuest. | C37: Coste previsto | D37: Nº | E37: Fecha | F37: Emitido por | G37: Objeto del gasto | H37: Importe sin I.V.A. | I37: % I.VA | J37: Cód. | K37: Fecha | L37: Importe con Impuestos incluidos | M37: I.V.A. Recupe-rable | N37: Importe sin I.V.A. Recupe-rable
L38: =N38+M38 -> 0 | M38: =I38*H38 -> 0 | N38: =H38 -> 0
L39: =N39+M39 -> 0 | M39: =I39*H39 -> 0 | N39: =H39 -> 0
L40: =N40+M40 -> 0 | M40: =I40*H40 -> 0 | N40: =H40 -> 0
L41: =N41+M41 -> 0 | M41: =I41*H41 -> 0 | N41: =H41 -> 0
L42: =N42+M42 -> 0 | M42: =I42*H42 -> 0 | N42: =H42 -> 0
L43: =N43+M43 -> 0 | M43: =I43*H43 -> 0 | N43: =H43 -> 0
L44: =N44+M44 -> 0 | M44: =I44*H44 -> 0 | N44: =H44 -> 0
L45: =N45+M45 -> 0 | M45: =I45*H45 -> 0 | N45: =H45 -> 0
L46: =N46+M46 -> 0 | M46: =I46*H46 -> 0 | N46: =H46 -> 0
L47: =N47+M47 -> 0 | M47: =I47*H47 -> 0 | N47: =H47 -> 0
L48: =N48+M48 -> 0 | M48: =I48*H48 -> 0 | N48: =H48 -> 0
L49: =N49+M49 -> 0 | M49: =I49*H49 -> 0 | N49: =H49 -> 0
... L68: =N68+M68 -> 0 | M68: =I68*H68 -> 0 | N68: =H68 -> 0
B69: TOTAL | C69: =SUM(C30:C68) -> 0 | H69: =SUM(C30:C68) -> 0 | L69: =SUM(C30:C68) -> 0 | M69: =SUM(C30:C68) -> 0 | N69: =SUM(C30:C68) -> 0
B71: El abajo firmante certifica haber comprobado los documentos relacionados y verificado las operaciones aritméticas correspondientes. | G71: Fecha: | K71: Firma del beneficiario o de su representante legal

Sheet anexo 1
A1: Expediente | E1: Proyecto | K1: Fecha inicio
A2: Beneficiario | K2: Fecha fin
A3: INVERSIÓN | B3: PRESUPUESTADO | D3: JUSTIFICANTES | I3: PAGOS EFECTUADOS
A5: Objeto del gasto | B5: Nº presupuesto/ Factura proforma | C5: Coste previsto | D5: Nº Factura | E5: Fecha | F5: Proveedor | G5: Concepto | H5: Importe sin I.V.A. | I5: Cód. | J5: Fecha Pago | K5: Importe con Impuestos incluidos | L5: I.V.A. | M5: Importe sin I.V.A.
J67: Firma del beneficiario o de su representante legal.

Sheet anexo 2
B2: A. Financiación propia
C3: A.1. Ampliación de capital
C4: A.2. Beneficios no repartidos
C5: A.3. Otros recursos propios
C6: (especificar):
B7: B. Financiación externa privada
C8: B.1. Entidades financieras
C9: B.2. Otros recursos ajenos (especificar):
B10: TOTAL INVERSIÓN SOLICITADA (A+B) | D10: =IFERROR(SUM(D3+D4+D5+D8)," ") -> 0
B11: C. Financiación externa pública
C12: C.1 Aportación solicitada Ayuda FEADER
C13: C.2. Otras subvenciones (especificar):
B14: TOTAL INVERSIÓN Y AYUDA (A+B+C) | D14: =D10+D12+D13 -> 0
A22: DESGLOSE INVERSIONES | D22: INVERSIÓN | E22: PREVISIÓN | F22: GASTO
A23: a) | B23: 1 | C23: Obra Civil | D23: Obra Civil | E23: =SUMPRODUCT(('anexo 1'!A6:A35=D23)*('anexo 1'!C6:C35)) -> 0 | F23: =SUMPRODUCT(('anexo 1'!A6:A35=D23)*('anexo 1'!H6:H35)) -> 0
A24: b) | B24: 2 | C24: Instalaciones (Frigorífica, eléctrica, fluidos, incendios..) | D24: Instalaciones | E24: =SUMPRODUCT(('anexo 1'!A6:A35=D24)*('anexo 1'!C6:C35)) -> 0 | F24: =SUMPRODUCT(('anexo 1'!A6:A35=D24)*('anexo 1'!H6:H35)) -> 0
B25: 3 | C25: Maquinaria y equipos (incluye TIC, hardware y programas informáticos) | D25: Maquinaria | E25: =SUMPRODUCT(('anexo 1'!A6:A35=D25)*('anexo 1'!C6:C35)) -> 0 | F25: =SUMPRODUCT(('anexo 1'!A6:A35=D25)*('anexo 1'!H6:H35)) -> 0
A26: c) | B26: 4 | C26: Implantación sistemas de gestión calidad medioambiental | D26: Sist. Calidad | E26: =SUMPRODUCT(('anexo 1'!A6:A35=D26)*('anexo 1'!C6:C35)) -> 0 | F26: =SUMPRODUCT(('anexo 1'!A6:A35=D26)*('anexo 1'!H6:H35)) -> 0
A27: d) | B27: 5 | C27: Gastos generales (honorarios, estudios..) | D27: Gastos generales | E27: =SUMPRODUCT(('anexo 1'!A6:A35=D27)*('anexo 1'!C6:C35)) -> 0 | F27: =SUMPRODUCT(('anexo 1'!A6:A35=D27)*('anexo 1'!H6:H35)) -> 0
A28: e) | B28: 6 | C28: Patentes y licencias | D28: Paten./Licen. | E28: =SUMPRODUCT(('anexo 1'!A6:A35=D28)*('anexo 1'!C6:C35)) -> 0 | F28: =SUMPRODUCT(('anexo 1'!A6:A35=D28)*('anexo 1'!H6:H35)) -> 0
A29: TOTAL | E29: =IFERROR(SUM(E23:E28)," ") -> 0 | F29: =IFERROR(SUM(F23:F28)," ") -> 0
C30: * Esta tabla se autocumplimenta con los datos del Anexo 1
D31: Firma del beneficiario o de su representante legal.

Sheet anexo 3
B1: Expediente | F1: Proyecto
B2: Beneficiario
A3: PESUPUESTADO | E3: REALIZADO | I3: VARIACIONES
B4: INVERSIÓN | C4: VOLUMEN, CAPACIDAD, SUPERFICIE, ETC. | D4: COSTE | F4: INVERSIÓN | G4: VOLUMEN, CAPACIDAD, SUPERFICIE, ETC. | H4: COSTE | I4: JUSTIFICACION
A5: 2 | B5: OBRA CIVIL | E5: 2 | F5: OBRA CIVIL
A6: 2.1 | B6: Traídas y acometidas | E6: 2.1 | F6: Traídas y acometidas
A7: 2.2 | B7: Urbanización y obras exteriores | E7: 2.2 | F7: Urbanización y obras exteriores
A8: 2.3 | B8: Movimiento de tierras | E8: 2.3 | F8: Movimiento de tierras
A9: 2.4 | B9: Demoliciones | E9: 2.4 | F9: Demoliciones
A10: 2.5 | B10: Cimentación | E10: 2.5 | F10: Cimentación
A11: 2.6 | B11: Saneamiento | E11: 2.6 | F11: Saneamiento
A12: 2.7 | B12: Estructura | E12: 2.7 | F12: Estructura
A13: 2.8 | B13: Cerramiento | E13: 2.8 | F13: Cerramiento
A14: 2.9 | B14: Cubierta | E14: 2.9 | F14: Cubierta
A15: 2.10 | B15: Solera y pavimentos | E15: 2.10 | F15: Solera y pavimentos
A16: 2.11 | B16: Albañilería | E16: 2.11 | F16: Albañilería
A17: 2.12 | B17: Carpintería | E17: 2.12 | F17: Carpintería
... A21: 2.16 | B21: Otros: | E21: 2.16 | F21: Otros:
B22: Total 2 | D22: =SUM(D6:D22) -> 0 | F22: Total 2 | H22: =SUM(H6:H21) -> 0
A23: 3 | B23: INSTALACIONES | E23: 3 | F23: INSTALACIONES
A24: 3.1 | B24: Congelación y refrigeración | E24: 3.1 | F24: Congelación y refrigeración
A25: 3.2 | B25: Instalación eléctrica | E25: 3.2 | F25: Instalación eléctrica
A26: 3.3 | B26: Instalación agua | E26: 3.3 | F26: Instalación agua
A27: 3.4 | B27: Instalación contra incendios | E27: 3.4 | F27: Instalación contra incendios
A28: 3.5 | B28: Instalación aire comprimido | E28: 3.5 | F28: Instalación aire comprimido
A29: 3.6 | B29: Instalación gas | E29: 3.6 | F29: Instalación gas
A30: 3.7 | B30: Climatización | E30: 3.7 | F30: Climatización
A31: 3.8 | B31: Protección del entorno | E31: 3.8 | F31: Protección del entorno
A32: 3.9 | B32: Otros: | E32: 3.9 | F32: Otros:
B33: Total 3 | D33: =SUM(D24:D32) -> 0 | F33: Total 3 | H33: =SUM(H24:H32) -> 0
A34: 4 | B34: MAQUINARIA | E34: 4 | F34: MAQUINARIA
B45: Total 4 | D45: =SUM(D35:D44) -> 0 | F45: Total 4 | H45: =SUM(H35:H44) -> 0
A46: 5 | B46: OTROS EQUIPOS | E46: 5 | F46: OTROS EQUIPOS
A47: 5.1 | B47: Equipos de oficina | E47: 5.1 | F47: Equipos de oficina
A48: 5.2 | B48: Equipos locales personal | E48: 5.2 | F48: Equipos locales personal
A49: 5.3 | B49: Equipos informáticos | E49: 5.3 | F49: Equipos informáticos
A50: 5.4 | B50: Equipos de laboratorio | E50: 5.4 | F50: Equipos de laboratorio
A51: 5.5 | B51: Otros: | E51: 5.5 | F51: Otros:
B52: Total 5 | D52: =SUM(D47:D51) -> 0 | F52: Total 5 | H52: =SUM(H47:H51) -> 0
A53: 6 | B53: IMPLANTAC SISTEM CALIDAD | E53: 6 | F53: IMPLANTAC SISTEM CALIDAD
...
